BEGIN_USGS_DOQ_HEADER *
QUADRANGLE_NAME "SILIGO PEAK" *
QUADRANT SE *
WEST_LONGITUDE -122 56 15.000 *
EAST_LONGITUDE -122 52 30.000 *
NORTH_LATITUDE 40 56 15.000 *
SOUTH_LATITUDE 40 52 30.000 *
PRODUCTION_DATE 2001 7 23 *
RASTER_ORDER LEFT_RIGHT/TOP_BOTTOM *
BAND_ORGANIZATION "SINGLE FILE" *
BAND_CONTENT BLACK&WHITE *
BITS_PER_PIXEL 8 *
SAMPLES_AND_LINES 5967 7559 *
HORIZONTAL_DATUM NAD83 *
HORIZONTAL_COORDINATE_SYSTEM UTM *
COORDINATE_ZONE 10 *
HORIZONTAL_UNITS METERS *
HORIZONTAL_RESOLUTION 1.0 *
SECONDARY_HORIZONTAL_DATUM NAD27 *
XY_ORIGIN 504865.781 4532126.028 *
SECONDARY_XY_ORIGIN 504961.956 4531929.328 *
NATION US *
STATE CA *
NW_QUAD_CORNER_XY 505261.308 4531820.887 *
NE_QUAD_CORNER_XY 510522.617 4531826.528 *
SE_QUAD_CORNER_XY 510532.528 4524888.546 *
SW_QUAD_CORNER_XY 505266.264 4524882.907 *
SECONDARY_NW_QUAD_XY 505261.453 4531609.099 *
SECONDARY_NE_QUAD_XY 510522.903 4531614.740 *
SECONDARY_SE_QUAD_XY 510532.814 4524676.868 *
SECONDARY_SW_QUAD_XY 505266.408 4524671.229 *
RMSE_XY 2.58 *
IMAGE_SOURCE "BLACK AND WHITE FILM" *
SOURCE_IMAGE_ID "NAPP 10486 117" *
SOURCE_IMAGE_DATE 1998 8 24 *
SOURCE_IMAGE_ID "NAPP 10486 116" *
SOURCE_IMAGE_DATE 1998 8 24 *
SOURCE_IMAGE_ID "NAPP 10486 118" *
SOURCE_IMAGE_DATE 1998 8 24 *
SOURCE_IMAGE_ID "NAPP 10486 47" *
SOURCE_IMAGE_DATE 1998 8 24 *
SOURCE_IMAGE_ID "NAPP 10486 46" *
SOURCE_IMAGE_DATE 1998 8 24 *
SOURCE_IMAGE_ID "NAPP 10486 45" *
SOURCE_IMAGE_DATE 1998 8 24 *
SOURCE_IMAGE_ID "NAPP 10482 119" *
SOURCE_IMAGE_DATE 1998 8 14 *
SOURCE_DEM_DATE 1982 0 0 *
AGENCY "WESTERN MAPPING CENTER (WMC)" *
PRODUCER "USDA FS GEOSPATIAL SERVICE AND TECHNOLOGY CENTER" *
PRODUCTION_SYSTEM "ORBIT OR_RECTIFY V.5.2" *
STANDARD_VERSION 1996 12 *
METADATA_DATE 2001 7 24 *
DATA_FILE_SIZE 45110520 *
BYTE_COUNT 5967 * * * * * * * * * * * * * * * * * * * *
END_USGS_HEADER *
