BEGIN_USGS_DOQ_HEADER *
QUADRANGLE_NAME "SILIGO PEAK" *
QUADRANT SW *
WEST_LONGITUDE -123 0 0.000 *
EAST_LONGITUDE -122 56 15.000 *
NORTH_LATITUDE 40 56 15.000 *
SOUTH_LATITUDE 40 52 30.000 *
PRODUCTION_DATE 2001 7 23 *
RASTER_ORDER LEFT_RIGHT/TOP_BOTTOM *
BAND_ORGANIZATION "SINGLE FILE" *
BAND_CONTENT BLACK&WHITE *
BITS_PER_PIXEL 8 *
SAMPLES_AND_LINES 5962 7555 *
HORIZONTAL_DATUM NAD83 *
HORIZONTAL_COORDINATE_SYSTEM UTM *
COORDINATE_ZONE 10 *
HORIZONTAL_UNITS METERS *
HORIZONTAL_RESOLUTION 1.0 *
SECONDARY_HORIZONTAL_DATUM NAD27 *
XY_ORIGIN 499603.772 4532120.387 *
SECONDARY_XY_ORIGIN 499700.006 4531923.713 *
NATION US *
STATE CA *
NW_QUAD_CORNER_XY 500000.000 4531819.007 *
NE_QUAD_CORNER_XY 505261.308 4531820.887 *
SE_QUAD_CORNER_XY 505266.264 4524882.907 *
SW_QUAD_CORNER_XY 500000.000 4524881.027 *
SECONDARY_NW_QUAD_XY 500000.003 4531607.219 *
SECONDARY_NE_QUAD_XY 505261.453 4531609.099 *
SECONDARY_SE_QUAD_XY 505266.408 4524671.229 *
SECONDARY_SW_QUAD_XY 500000.003 4524669.350 *
RMSE_XY 2.58 *
IMAGE_SOURCE "BLACK AND WHITE FILM" *
SOURCE_IMAGE_ID "NAPP 10486 46" *
SOURCE_IMAGE_DATE 1998 8 24 *
SOURCE_IMAGE_ID "NAPP 10486 47" *
SOURCE_IMAGE_DATE 1998 8 24 *
SOURCE_IMAGE_ID "NAPP 10486 45" *
SOURCE_IMAGE_DATE 1998 8 24 *
SOURCE_IMAGE_ID "NAPP 10486 156" *
SOURCE_IMAGE_DATE 1998 8 24 *
SOURCE_IMAGE_ID "NAPP 10486 157" *
SOURCE_IMAGE_DATE 1998 8 24 *
SOURCE_IMAGE_ID "NAPP 10486 158" *
SOURCE_IMAGE_DATE 1998 8 24 *
SOURCE_IMAGE_ID "NAPP 10486 116" *
SOURCE_IMAGE_DATE 1998 8 24 *
SOURCE_IMAGE_ID "NAPP 10486 117" *
SOURCE_IMAGE_DATE 1998 8 24 *
SOURCE_IMAGE_ID "NAPP 10486 118" *
SOURCE_IMAGE_DATE 1998 8 24 *
SOURCE_DEM_DATE 1982 0 0 *
AGENCY "WESTERN MAPPING CENTER (WMC)" *
PRODUCER "USDA FS GEOSPATIAL SERVICE AND TECHNOLOGY CENTER" *
PRODUCTION_SYSTEM "ORBIT OR_RECTIFY V.5.2" *
STANDARD_VERSION 1996 12 *
METADATA_DATE 2001 7 24 *
DATA_FILE_SIZE 45048872 *
BYTE_COUNT 5962 * * * * * * * * * * * * * * * *
END_USGS_HEADER *
