BEGIN_USGS_DOQ_HEADER *
QUADRANGLE_NAME "IAQUA BUTTES" 3.45 or 7.5-min. name*
QUADRANT NE quadrant indicator if cell size = 3.75-minutes*
WEST_LONGITUDE -123 56 15.000 signed deg min sec SDDD MM SS.SSS*
EAST_LONGITUDE -123 52 30.000 signed deg min sec SDDD MM SS.SSS*
NORTH_LATITUDE 40 45 0.000 signed deg min sec SDDD MM SS.SSS*
SOUTH_LATITUDE 40 41 15.000 signed deg min sec SDDD MM SS.SSS*
PRODUCTION_DATE 1997 10 26 yyyy mm dd*
RASTER_ORDER LEFT_RIGHT/TOP_BOTTOM video display order*
BAND_ORGANIZATION BIP single file or BSQ, or BIL or BIP*
BAND_CONTENT RED black&white or red green blue*
BAND_CONTENT GREEN black&white or red green blue*
BAND_CONTENT BLUE black&white or red green blue*
BITS_PER_PIXEL 8 radiometric resolution*
SAMPLES_AND_LINES 6060 7618 number of columns and rows*
HORIZONTAL_DATUM NAD83 primary horizontal datum*
HORIZONTAL_COORDINATE_SYSTEM UTM *
COORDINATE_ZONE 10 coordinate system zone number*
HORIZONTAL_UNITS METERS coordinate system units*
HORIZONTAL_RESOLUTION 1.00 pixel horiz. ground sample distance*
SECONDARY_HORIZONTAL_DATUM NAD27 secondary horizontal datum*
XY_ORIGIN 420379.500 4511732.500 coord. of upper left pixel pri. datum*
SECONDARY_XY_ORIGIN 420475.952 4511536.107 coord upper left pixel sec datum*
NATION US nation code*
STATE CA state fip code*
NW_QUAD_CORNER_XY 420857.126 4511427.967 XY coords. of pri. NW quad corner*
NE_QUAD_CORNER_XY 426133.381 4511373.487 XY coords. of pri. NE quad corner*
SE_QUAD_CORNER_XY 426064.258 4504435.611 XY coords. of pri. SE quad corner*
SW_QUAD_CORNER_XY 420783.064 4504490.073 XY coords. of pri. SW quad corner*
SECONDARY_NW_QUAD_XY 420855.008 4511216.524 XY coords. - sec. NW quad cor.*
SECONDARY_NE_QUAD_XY 426131.405 4511162.042 XY coords. - sec. NE quad cor.*
SECONDARY_SE_QUAD_XY 426062.283 4504224.279 XY coords. - sec. SE quad cor.*
SECONDARY_SW_QUAD_XY 420780.948 4504278.743 XY coords. - sec. SW quad cor.*
RMSE_XY 6.70 doq horiz. accuracy*
IMAGE_SOURCE "COLOR INFRA-RED FILM" b&w, cir, natural color, other*
SOURCE_IMAGE_ID "NAPP 1283 154" source image id*
SOURCE_IMAGE_DATE 1988 8 19 source image date as yyyy mm dd*
IMAGE_SOURCE "COLOR INFRA-RED FILM" b&w, cir, natural color, other*
SOURCE_IMAGE_ID "NAPP 1283 155" source image id*
SOURCE_IMAGE_DATE 1988 8 19 source image date as yyyy mm dd*
IMAGE_SOURCE "COLOR INFRA-RED FILM" b&w, cir, natural color, other*
SOURCE_IMAGE_ID "NAPP 1283 153" source image id*
SOURCE_IMAGE_DATE 1988 8 19 source image date as yyyy mm dd*
SOURCE_DEM_DATE 1997 10 26 source dem date yyyy mm dd*
AGENCY "WESTERN MAPPING CENTER (WMC)" oversight agency*
PRODUCER "WOOLPERT LLP" *
PRODUCTION_SYSTEM "INTERGRAPH ISPM,ISIR" production system*
STANDARD_VERSION 1996 12 version of DOQ standard*
METADATA_DATE 1998 1 29 date created or changed, yyyy mm dd*
DATA_FILE_SIZE 138513420 data set size in bytes*
BYTE_COUNT 18180 header byte count* * * * * * * * * * * * * * * * * * * * * * * * * * * * * * * * * * * * * * * * * * * * * * * * * * * * * * * * * * * * * * * * * * * * * * * * * * * * * * * * * * * * * * * * * * * * * * * * * * * * * * * * * * * * * * * * * * * * * * * * * * * * * * * * * * * * * * * * * * * * * * * * * * * * * * * * * * * * * * * * * * * * * * * * * * * * * * * * *
END_USGS_HEADER *
