BEGIN_USGS_DOQ_HEADER *
QUADRANGLE_NAME "WRIGHTS RIDGE" *
QUADRANT SE *
WEST_LONGITUDE -123 3 45.000 *
EAST_LONGITUDE -123 0 0.000 *
NORTH_LATITUDE 40 3 45.000 *
SOUTH_LATITUDE 40 0 0.000 *
PRODUCTION_DATE 2000 11 25 *
RASTER_ORDER LEFT_RIGHT/TOP_BOTTOM *
BAND_ORGANIZATION "SINGLE FILE" *
BAND_CONTENT BLACK&WHITE *
BITS_PER_PIXEL 8 *
SAMPLES_AND_LINES 6031 7553 *
HORIZONTAL_DATUM NAD83 *
HORIZONTAL_COORDINATE_SYSTEM UTM *
COORDINATE_ZONE 10 *
HORIZONTAL_UNITS METERS *
HORIZONTAL_RESOLUTION 1.0 *
SECONDARY_HORIZONTAL_DATUM NAD27 *
XY_ORIGIN 494269.643 4434995.516 *
SECONDARY_XY_ORIGIN 494365.462 4434799.274 *
NATION US *
STATE CA *
NW_QUAD_CORNER_XY 494669.886 4434696.016 *
NE_QUAD_CORNER_XY 500000.000 4434694.145 *
SE_QUAD_CORNER_XY 500000.000 4427757.219 *
SW_QUAD_CORNER_XY 494665.019 4427759.089 *
SECONDARY_NW_QUAD_XY 494669.748 4434485.856 *
SECONDARY_NE_QUAD_XY 500000.002 4434483.985 *
SECONDARY_SE_QUAD_XY 500000.003 4427547.181 *
SECONDARY_SW_QUAD_XY 494664.881 4427549.051 *
RMSE_XY 0.80 *
IMAGE_SOURCE "BLACK AND WHITE FILM" *
SOURCE_IMAGE_ID "NAPP 10483 18" *
SOURCE_IMAGE_DATE 1998 8 19 *
SOURCE_IMAGE_ID "NAPP 10483 17" *
SOURCE_IMAGE_DATE 1998 8 19 *
SOURCE_IMAGE_ID "NAPP 10483 19" *
SOURCE_IMAGE_DATE 1998 8 19 *
SOURCE_IMAGE_ID "NAPP 10481 17" *
SOURCE_IMAGE_DATE 1998 8 14 *
SOURCE_IMAGE_ID "NAPP 10481 18" *
SOURCE_IMAGE_DATE 1998 8 14 *
SOURCE_IMAGE_ID "NAPP 10481 19" *
SOURCE_IMAGE_DATE 1998 8 14 *
SOURCE_DEM_DATE 2000 0 0 *
AGENCY "WESTERN MAPPING CENTER (WMC)" *
PRODUCER "USDA FS GEOSPATIAL SERVICE AND TECHNOLOGY CENTER" *
PRODUCTION_SYSTEM "ORBIT OR_RECTIFY V.5.2" *
STANDARD_VERSION 1996 12 *
METADATA_DATE 2000 11 25 *
DATA_FILE_SIZE 45558174 *
BYTE_COUNT 6031 * * * * * * * * * * * * * * * * * * * * * * *
END_USGS_HEADER *
