BEGIN_USGS_DOQ_HEADER *
QUADRANGLE_NAME "LONG RIDGE" *
QUADRANT SE *
WEST_LONGITUDE -123 18 45.000 *
EAST_LONGITUDE -123 15 0.000 *
NORTH_LATITUDE 40 3 45.000 *
SOUTH_LATITUDE 40 0 0.000 *
PRODUCTION_DATE 2001 5 2 *
RASTER_ORDER LEFT_RIGHT/TOP_BOTTOM *
BAND_ORGANIZATION "SINGLE FILE" *
BAND_CONTENT BLACK&WHITE *
BITS_PER_PIXEL 8 *
SAMPLES_AND_LINES 6051 7567 *
HORIZONTAL_DATUM NAD83 *
HORIZONTAL_COORDINATE_SYSTEM UTM *
COORDINATE_ZONE 10 *
HORIZONTAL_UNITS METERS *
HORIZONTAL_RESOLUTION 1.0 *
SECONDARY_HORIZONTAL_DATUM NAD27 *
XY_ORIGIN 472929.084 4435040.422 *
SECONDARY_XY_ORIGIN 473024.905 4434844.070 *
NATION US *
STATE CA *
NW_QUAD_CORNER_XY 473349.407 4434740.922 *
NE_QUAD_CORNER_XY 478679.532 4434724.082 *
SE_QUAD_CORNER_XY 478660.063 4427787.145 *
SW_QUAD_CORNER_XY 473325.071 4427803.978 *
SECONDARY_NW_QUAD_XY 473348.707 4434530.764 *
SECONDARY_NE_QUAD_XY 478678.973 4434513.923 *
SECONDARY_SE_QUAD_XY 478659.504 4427577.108 *
SECONDARY_SW_QUAD_XY 473324.372 4427593.942 *
RMSE_XY 0.65 *
IMAGE_SOURCE "BLACK AND WHITE FILM" *
SOURCE_IMAGE_ID "NAPP 10479 18" *
SOURCE_IMAGE_DATE 1998 8 13 *
SOURCE_IMAGE_ID "NAPP 10479 17" *
SOURCE_IMAGE_DATE 1998 8 13 *
SOURCE_IMAGE_ID "NAPP 10479 19" *
SOURCE_IMAGE_DATE 1998 8 13 *
SOURCE_IMAGE_ID "NAPP 10479 154" *
SOURCE_IMAGE_DATE 1998 8 13 *
SOURCE_IMAGE_ID "NAPP 10479 153" *
SOURCE_IMAGE_DATE 1998 8 13 *
SOURCE_IMAGE_ID "NAPP 10479 152" *
SOURCE_IMAGE_DATE 1998 8 13 *
SOURCE_IMAGE_ID "NAPP 10481 74" *
SOURCE_IMAGE_DATE 1998 8 14 *
SOURCE_IMAGE_ID "NAPP 10481 73" *
SOURCE_IMAGE_DATE 1998 8 14 *
SOURCE_IMAGE_ID "NAPP 10481 72" *
SOURCE_IMAGE_DATE 1998 8 14 *
SOURCE_DEM_DATE 1967 1 1 *
AGENCY "WESTERN MAPPING CENTER (WMC)" *
PRODUCER "USDA FS GEOSPATIAL SERVICE AND TECHNOLOGY CENTER" *
PRODUCTION_SYSTEM "ORBIT OR_RECTIFY V.5.2" *
STANDARD_VERSION 1996 12 *
METADATA_DATE 2001 3 29 *
DATA_FILE_SIZE 45793968 *
BYTE_COUNT 6051 * * * * * * * * * * * * * * * * *
END_USGS_HEADER *
