BEGIN_USGS_DOQ_HEADER *
QUADRANGLE_NAME "LONG RIDGE" 3.45 or 7.5-min. name*
QUADRANT SW quadrant indicator if cell size = 3.75-minutes*
WEST_LONGITUDE -123 22 30.000 signed deg min sec SDDD MM SS.SSS*
EAST_LONGITUDE -123 18 45.000 signed deg min sec SDDD MM SS.SSS*
NORTH_LATITUDE 40 3 45.000 signed deg min sec SDDD MM SS.SSS*
SOUTH_LATITUDE 40 0 0.000 signed deg min sec SDDD MM SS.SSS*
PRODUCTION_DATE 1996 4 18 yyyy mm dd*
RASTER_ORDER LEFT_RIGHT/TOP_BOTTOM video display order*
BAND_ORGANIZATION "SINGLE FILE" single file or BSQ, or BIL or BIP*
BAND_CONTENT BLACK&WHITE black&white or red green blue*
BITS_PER_PIXEL 8 radiometric resolution*
SAMPLES_AND_LINES 6066 7582 number of columns and rows*
HORIZONTAL_DATUM NAD83 primary horizontal datum*
HORIZONTAL_COORDINATE_SYSTEM UTM *
COORDINATE_ZONE 10 coordinate system zone number*
HORIZONTAL_UNITS METERS coordinate system units*
HORIZONTAL_RESOLUTION 1.00 pixel horiz. ground sample distance*
SECONDARY_HORIZONTAL_DATUM NAD27 secondary horizontal datum*
XY_ORIGIN 467588.500 4435066.500 coord. of upper left pixel pri. datum*
SECONDARY_XY_ORIGIN 467684.300 4434870.133 coord upper left pixel sec datum*
NATION US nation code*
STATE CA state fip code*
NW_QUAD_CORNER_XY 468019.276 4434761.505 XY coords. of pri. NW quad corner*
NE_QUAD_CORNER_XY 473349.407 4434740.922 XY coords. of pri. NE quad corner*
SE_QUAD_CORNER_XY 473325.071 4427803.978 XY coords. of pri. SE quad corner*
SW_QUAD_CORNER_XY 467990.073 4427824.553 XY coords. of pri. SW quad corner*
SECONDARY_NW_QUAD_XY 468018.435 4434551.346 XY coords. - sec. NW quad cor.*
SECONDARY_NE_QUAD_XY 473348.706 4434530.763 XY coords. - sec. NE quad cor.*
SECONDARY_SE_QUAD_XY 473324.370 4427593.941 XY coords. - sec. SE quad cor.*
SECONDARY_SW_QUAD_XY 467989.232 4427614.516 XY coords. - sec. SW quad cor.*
RMSE_XY 2.20 doq horiz. accuracy*
IMAGE_SOURCE "BLACK AND WHITE FILM" b&w, cir, natural color, other*
SOURCE_IMAGE_ID "PAPP 1251 424" source image id*
SOURCE_IMAGE_DATE 1993 6 24 source image date as yyyy mm dd*
IMAGE_SOURCE "BLACK AND WHITE FILM" b&w, cir, natural color, other*
SOURCE_IMAGE_ID "PAPP 1251 323" source image id*
SOURCE_IMAGE_DATE 1993 6 24 source image date as yyyy mm dd*
IMAGE_SOURCE "BLACK AND WHITE FILM" b&w, cir, natural color, other*
SOURCE_IMAGE_ID "PAPP 1251 525" source image id*
SOURCE_IMAGE_DATE 1993 6 24 source image date as yyyy mm dd*
SOURCE_DEM_DATE 1996 4 18 source dem date yyyy mm dd*
AGENCY "WESTERN MAPPING CENTER (WMC)" oversight agency*
PRODUCER "Woolpert Consultants" producer/contractor*
PRODUCTION_SYSTEM "INTERGRAPH ISPM,ISIR" production system*
STANDARD_VERSION 1996 12 version of DOQ standard*
METADATA_DATE 1997 5 27 date created or changed, yyyy mm dd*
DATA_FILE_SIZE 45998478 data set size in bytes*
BYTE_COUNT 6066 header byte count* * * * * * * * * * * * * * * * * * * * * * * * * * *
END_USGS_HEADER *
