BEGIN_USGS_DOQ_HEADER *
QUADRANGLE_NAME "LAKE MOUNTAIN" 3.45 or 7.5-min. name*
QUADRANT SE quadrant indicator if cell size = 3.75-minutes*
WEST_LONGITUDE -123 26 15.000 signed deg min sec SDDD MM SS.SSS*
EAST_LONGITUDE -123 22 30.000 signed deg min sec SDDD MM SS.SSS*
NORTH_LATITUDE 40 3 45.000 signed deg min sec SDDD MM SS.SSS*
SOUTH_LATITUDE 40 0 0.000 signed deg min sec SDDD MM SS.SSS*
PRODUCTION_DATE 1996 4 18 yyyy mm dd*
RASTER_ORDER LEFT_RIGHT/TOP_BOTTOM video display order*
BAND_ORGANIZATION "SINGLE FILE" single file or BSQ, or BIL or BIP*
BAND_CONTENT BLACK&WHITE black&white or red green blue*
BITS_PER_PIXEL 8 radiometric resolution*
SAMPLES_AND_LINES 6071 7585 number of columns and rows*
HORIZONTAL_DATUM NAD83 primary horizontal datum*
HORIZONTAL_COORDINATE_SYSTEM UTM *
COORDINATE_ZONE 10 coordinate system zone number*
HORIZONTAL_UNITS METERS coordinate system units*
HORIZONTAL_RESOLUTION 1.00 pixel horiz. ground sample distance*
SECONDARY_HORIZONTAL_DATUM NAD27 secondary horizontal datum*
XY_ORIGIN 462253.500 4435090.500 coord. of upper left pixel pri. datum*
SECONDARY_XY_ORIGIN 462349.281 4434894.118 coord upper left pixel sec datum*
NATION US nation code*
STATE CA state fip code*
NW_QUAD_CORNER_XY 462689.138 4434785.830 XY coords. of pri. NW quad corner*
NE_QUAD_CORNER_XY 468019.276 4434761.505 XY coords. of pri. NE quad corner*
SE_QUAD_CORNER_XY 467990.073 4427824.553 XY coords. of pri. SE quad corner*
SW_QUAD_CORNER_XY 462655.068 4427848.868 XY coords. of pri. SW quad corner*
SECONDARY_NW_QUAD_XY 462688.157 4434575.671 XY coords. - sec. NW quad cor.*
SECONDARY_NE_QUAD_XY 468018.435 4434551.346 XY coords. - sec. NE quad cor.*
SECONDARY_SE_QUAD_XY 467989.232 4427614.516 XY coords. - sec. SE quad cor.*
SECONDARY_SW_QUAD_XY 462654.087 4427638.832 XY coords. - sec. SW quad cor.*
RMSE_XY 2.20 doq horiz. accuracy*
IMAGE_SOURCE "BLACK AND WHITE FILM" b&w, cir, natural color, other*
SOURCE_IMAGE_ID "PAPP 1251 292" source image id*
SOURCE_IMAGE_DATE 1993 6 24 source image date as yyyy mm dd*
IMAGE_SOURCE "BLACK AND WHITE FILM" b&w, cir, natural color, other*
SOURCE_IMAGE_ID "PAPP 1251 191" source image id*
SOURCE_IMAGE_DATE 1993 6 24 source image date as yyyy mm dd*
IMAGE_SOURCE "BLACK AND WHITE FILM" b&w, cir, natural color, other*
SOURCE_IMAGE_ID "PAPP 1251 393" source image id*
SOURCE_IMAGE_DATE 1993 6 24 source image date as yyyy mm dd*
SOURCE_DEM_DATE 1996 4 18 source dem date yyyy mm dd*
AGENCY "WESTERN MAPPING CENTER (WMC)" oversight agency*
PRODUCER "Woolpert Consultants" producer/contractor*
PRODUCTION_SYSTEM "INTERGRAPH ISPM,ISIR" production system*
STANDARD_VERSION 1996 12 version of DOQ standard*
METADATA_DATE 1997 5 27 date created or changed, yyyy mm dd*
DATA_FILE_SIZE 46054606 data set size in bytes*
BYTE_COUNT 6071 header byte count* * * * * * * * * * * * * * * * * * * * * * * * * * *
END_USGS_HEADER *
