BEGIN_USGS_DOQ_HEADER *
QUADRANGLE_NAME "LAKE MOUNTAIN" *
QUADRANT SE *
WEST_LONGITUDE -123 26 15.000 *
EAST_LONGITUDE -123 22 30.000 *
NORTH_LATITUDE 40 3 45.000 *
SOUTH_LATITUDE 40 0 0.000 *
PRODUCTION_DATE 2001 5 2 *
RASTER_ORDER LEFT_RIGHT/TOP_BOTTOM *
BAND_ORGANIZATION "SINGLE FILE" *
BAND_CONTENT BLACK&WHITE *
BITS_PER_PIXEL 8 *
SAMPLES_AND_LINES 6061 7575 *
HORIZONTAL_DATUM NAD83 *
HORIZONTAL_COORDINATE_SYSTEM UTM *
COORDINATE_ZONE 10 *
HORIZONTAL_UNITS METERS *
HORIZONTAL_RESOLUTION 1.0 *
SECONDARY_HORIZONTAL_DATUM NAD27 *
XY_ORIGIN 462258.844 4435085.330 *
SECONDARY_XY_ORIGIN 462354.627 4434888.949 *
NATION US *
STATE CA *
NW_QUAD_CORNER_XY 462689.138 4434785.830 *
NE_QUAD_CORNER_XY 468019.276 4434761.505 *
SE_QUAD_CORNER_XY 467990.073 4427824.553 *
SW_QUAD_CORNER_XY 462655.068 4427848.868 *
SECONDARY_NW_QUAD_XY 462688.159 4434575.672 *
SECONDARY_NE_QUAD_XY 468018.436 4434551.347 *
SECONDARY_SE_QUAD_XY 467989.233 4427614.517 *
SECONDARY_SW_QUAD_XY 462654.088 4427638.833 *
RMSE_XY 0.65 *
IMAGE_SOURCE "BLACK AND WHITE FILM" *
SOURCE_IMAGE_ID "NAPP 10479 188" *
SOURCE_IMAGE_DATE 1998 8 13 *
SOURCE_IMAGE_ID "NAPP 10479 187" *
SOURCE_IMAGE_DATE 1998 8 13 *
SOURCE_IMAGE_ID "NAPP 10479 189" *
SOURCE_IMAGE_DATE 1998 8 13 *
SOURCE_IMAGE_ID "NAPP 10480 259" *
SOURCE_IMAGE_DATE 1998 8 13 *
SOURCE_IMAGE_ID "NAPP 10480 258" *
SOURCE_IMAGE_DATE 1998 8 13 *
SOURCE_IMAGE_ID "NAPP 10480 257" *
SOURCE_IMAGE_DATE 1998 8 13 *
SOURCE_IMAGE_ID "NAPP 10479 154" *
SOURCE_IMAGE_DATE 1998 8 13 *
SOURCE_IMAGE_ID "NAPP 10479 153" *
SOURCE_IMAGE_DATE 1998 8 13 *
SOURCE_IMAGE_ID "NAPP 10479 152" *
SOURCE_IMAGE_DATE 1998 8 13 *
SOURCE_DEM_DATE 1967 1 1 *
AGENCY "WESTERN MAPPING CENTER (WMC)" *
PRODUCER "USDA FS GEOSPATIAL SERVICE AND TECHNOLOGY CENTER" *
PRODUCTION_SYSTEM "ORBIT OR_RECTIFY V.5.2" *
STANDARD_VERSION 1996 12 *
METADATA_DATE 2001 3 29 *
DATA_FILE_SIZE 45918136 *
BYTE_COUNT 6061 * * * * * * * * * * * * * * * * *
END_USGS_HEADER *
