BEGIN_USGS_DOQ_HEADER *
QUADRANGLE_NAME "GARBERVILLE" 3.45 or 7.5-min. name*
QUADRANT NW quadrant indicator if cell size = 3.75-minutes*
WEST_LONGITUDE -123 52 30.000 signed deg min sec SDDD MM SS.SSS*
EAST_LONGITUDE -123 48 45.000 signed deg min sec SDDD MM SS.SSS*
NORTH_LATITUDE 40 7 30.000 signed deg min sec SDDD MM SS.SSS*
SOUTH_LATITUDE 40 3 45.000 signed deg min sec SDDD MM SS.SSS*
PRODUCTION_DATE 1996 5 8 yyyy mm dd*
RASTER_ORDER LEFT_RIGHT/TOP_BOTTOM video display order*
BAND_ORGANIZATION "SINGLE FILE" single file or BSQ, or BIL or BIP*
BAND_CONTENT BLACK&WHITE black&white or red green blue*
BITS_PER_PIXEL 8 radiometric resolution*
SAMPLES_AND_LINES 6100 7611 number of columns and rows*
HORIZONTAL_DATUM NAD83 primary horizontal datum*
HORIZONTAL_COORDINATE_SYSTEM UTM *
COORDINATE_ZONE 10 coordinate system zone number*
HORIZONTAL_UNITS METERS coordinate system units*
HORIZONTAL_RESOLUTION 1.00 pixel horiz. ground sample distance*
SECONDARY_HORIZONTAL_DATUM NAD27 secondary horizontal datum*
XY_ORIGIN 424976.500 4442302.500 coord. of upper left pixel pri. datum*
SECONDARY_XY_ORIGIN 425072.024 4442106.157 coord upper left pixel sec datum*
NATION US nation code*
STATE CA state fip code*
NW_QUAD_CORNER_XY 425446.135 4441998.038 XY coords. of pri. NW quad corner*
NE_QUAD_CORNER_XY 430771.475 4441947.495 XY coords. of pri. NE quad corner*
SE_QUAD_CORNER_XY 430708.113 4435010.373 XY coords. of pri. SE quad corner*
SW_QUAD_CORNER_XY 425377.899 4435060.897 XY coords. of pri. SW quad corner*
SECONDARY_NW_QUAD_XY 425444.170 4441787.765 XY coords. - sec. NW quad cor.*
SECONDARY_NE_QUAD_XY 430769.650 4441737.220 XY coords. - sec. NE quad cor.*
SECONDARY_SE_QUAD_XY 430706.290 4434800.220 XY coords. - sec. SE quad cor.*
SECONDARY_SW_QUAD_XY 425375.936 4434850.746 XY coords. - sec. SW quad cor.*
RMSE_XY 2.10 doq horiz. accuracy*
IMAGE_SOURCE "BLACK AND WHITE FILM" b&w, cir, natural color, other*
SOURCE_IMAGE_ID "PAPP 8248 424" source image id*
SOURCE_IMAGE_DATE 1993 6 13 source image date as yyyy mm dd*
SOURCE_DEM_DATE 1996 5 8 source dem date yyyy mm dd*
AGENCY "WESTERN MAPPING CENTER (WMC)" oversight agency*
PRODUCER "Woolpert Consultants" producer/contractor*
PRODUCTION_SYSTEM "INTERGRAPH ISPM,ISIR" production system*
STANDARD_VERSION 1996 12 version of DOQ standard*
METADATA_DATE 1997 5 27 date created or changed, yyyy mm dd*
DATA_FILE_SIZE 46433200 data set size in bytes*
BYTE_COUNT 6100 header byte count* * * * * * * * * * * * * * * * * * * * * * * * * * * * * * * * * *
END_USGS_HEADER *
