BEGIN_USGS_DOQ_HEADER *
QUADRANGLE_NAME "BRICELAND" 3.45 or 7.5-min. name*
QUADRANT NW quadrant indicator if cell size = 3.75-minutes*
WEST_LONGITUDE -124 0 0.000 signed deg min sec SDDD MM SS.SSS*
EAST_LONGITUDE -123 56 15.000 signed deg min sec SDDD MM SS.SSS*
NORTH_LATITUDE 40 7 30.000 signed deg min sec SDDD MM SS.SSS*
SOUTH_LATITUDE 40 3 45.000 signed deg min sec SDDD MM SS.SSS*
PRODUCTION_DATE 1996 5 6 yyyy mm dd*
RASTER_ORDER LEFT_RIGHT/TOP_BOTTOM video display order*
BAND_ORGANIZATION "SINGLE FILE" single file or BSQ, or BIL or BIP*
BAND_CONTENT BLACK&WHITE black&white or red green blue*
BITS_PER_PIXEL 8 radiometric resolution*
SAMPLES_AND_LINES 6111 7619 number of columns and rows*
HORIZONTAL_DATUM NAD83 primary horizontal datum*
HORIZONTAL_COORDINATE_SYSTEM UTM *
COORDINATE_ZONE 10 coordinate system zone number*
HORIZONTAL_UNITS METERS coordinate system units*
HORIZONTAL_RESOLUTION 1.00 pixel horiz. ground sample distance*
SECONDARY_HORIZONTAL_DATUM NAD27 secondary horizontal datum*
XY_ORIGIN 414315.500 4442414.500 coord. of upper left pixel pri. datum*
SECONDARY_XY_ORIGIN 414410.961 4442218.150 coord upper left pixel sec datum*
NATION US nation code*
STATE CA state fip code*
NW_QUAD_CORNER_XY 414795.409 4442110.359 XY coords. of pri. NW quad corner*
NE_QUAD_CORNER_XY 420120.780 4442052.326 XY coords. of pri. NE quad corner*
SE_QUAD_CORNER_XY 420047.669 4435115.165 XY coords. of pri. SE quad corner*
SW_QUAD_CORNER_XY 414717.422 4435173.175 XY coords. of pri. SW quad corner*
SECONDARY_NW_QUAD_XY 414793.164 4441900.089 XY coords. - sec. NW quad cor.*
SECONDARY_NE_QUAD_XY 420118.675 4441842.055 XY coords. - sec. NE quad cor.*
SECONDARY_SE_QUAD_XY 420045.565 4434905.015 XY coords. - sec. SE quad cor.*
SECONDARY_SW_QUAD_XY 414715.179 4434963.027 XY coords. - sec. SW quad cor.*
RMSE_XY 2.30 doq horiz. accuracy*
IMAGE_SOURCE "BLACK AND WHITE FILM" b&w, cir, natural color, other*
SOURCE_IMAGE_ID "NAPP 6246 153" source image id*
SOURCE_IMAGE_DATE 1993 6 12 source image date as yyyy mm dd*
IMAGE_SOURCE "BLACK AND WHITE FILM" b&w, cir, natural color, other*
SOURCE_IMAGE_ID "NAPP 6246 152" source image id*
SOURCE_IMAGE_DATE 1993 6 12 source image date as yyyy mm dd*
IMAGE_SOURCE "BLACK AND WHITE FILM" b&w, cir, natural color, other*
SOURCE_IMAGE_ID "NAPP 6246 154" source image id*
SOURCE_IMAGE_DATE 1993 6 12 source image date as yyyy mm dd*
SOURCE_DEM_DATE 1996 5 6 source dem date yyyy mm dd*
AGENCY "WESTERN MAPPING CENTER (WMC)" oversight agency*
PRODUCER "Woolpert Consultants" producer/contractor*
PRODUCTION_SYSTEM "INTERGRAPH ISPM,ISIR" production system*
STANDARD_VERSION 1996 12 version of DOQ standard*
METADATA_DATE 1997 7 19 date created or changed, yyyy mm dd*
DATA_FILE_SIZE 46565820 data set size in bytes*
BYTE_COUNT 6111 header byte count* * * * * * * * * * * * * * * * * * * * * * * * * * * *
END_USGS_HEADER *
