BEGIN_USGS_DOQ_HEADER *
QUADRANGLE_NAME "BLACK ROCK MOUNTAIN" *
QUADRANT SW *
WEST_LONGITUDE -123 7 30.000 *
EAST_LONGITUDE -123 3 45.000 *
NORTH_LATITUDE 40 11 15.000 *
SOUTH_LATITUDE 40 7 30.000 *
PRODUCTION_DATE 2001 6 25 *
RASTER_ORDER LEFT_RIGHT/TOP_BOTTOM *
BAND_ORGANIZATION "SINGLE FILE" *
BAND_CONTENT BLACK&WHITE *
BITS_PER_PIXEL 8 *
SAMPLES_AND_LINES 6026 7557 *
HORIZONTAL_DATUM NAD83 *
HORIZONTAL_COORDINATE_SYSTEM UTM *
COORDINATE_ZONE 10 *
HORIZONTAL_UNITS METERS *
HORIZONTAL_RESOLUTION 1.0 *
SECONDARY_HORIZONTAL_DATUM NAD27 *
XY_ORIGIN 488953.355 4448875.212 *
SECONDARY_XY_ORIGIN 489049.300 4448678.879 *
NATION US *
STATE CA *
NW_QUAD_CORNER_XY 489359.277 4448575.712 *
NE_QUAD_CORNER_XY 494679.639 4448570.095 *
SE_QUAD_CORNER_XY 494674.759 4441633.018 *
SW_QUAD_CORNER_XY 489349.517 4441638.633 *
SECONDARY_NW_QUAD_XY 489358.998 4448365.310 *
SECONDARY_NE_QUAD_XY 494679.500 4448359.692 *
SECONDARY_SE_QUAD_XY 494674.621 4441422.736 *
SECONDARY_SW_QUAD_XY 489349.239 4441428.352 *
RMSE_XY 0.93 *
IMAGE_SOURCE "BLACK AND WHITE FILM" *
SOURCE_IMAGE_ID "NAPP 10481 22" *
SOURCE_IMAGE_DATE 1998 8 14 *
SOURCE_IMAGE_ID "NAPP 10481 21" *
SOURCE_IMAGE_DATE 1998 8 14 *
SOURCE_IMAGE_ID "NAPP 10481 23" *
SOURCE_IMAGE_DATE 1998 8 14 *
SOURCE_IMAGE_ID "NAPP 10483 21" *
SOURCE_IMAGE_DATE 1998 8 19 *
SOURCE_IMAGE_ID "NAPP 10483 22" *
SOURCE_IMAGE_DATE 1998 8 19 *
SOURCE_IMAGE_ID "NAPP 10483 23" *
SOURCE_IMAGE_DATE 1998 8 19 *
SOURCE_DEM_DATE 2000 0 0 *
AGENCY "WESTERN MAPPING CENTER (WMC)" *
PRODUCER "USDA FS GEOSPATIAL SERVICE AND TECHNOLOGY CENTER" *
PRODUCTION_SYSTEM "ORBIT OR_RECTIFY V.5.2" *
STANDARD_VERSION 1996 12 *
METADATA_DATE 2001 6 29 *
DATA_FILE_SIZE 45544508 *
BYTE_COUNT 6026 * * * * * * * * * * * * * * * * * * * * * * *
END_USGS_HEADER *
