BEGIN_USGS_DOQ_HEADER *
QUADRANGLE_NAME "SWIM RIDGE" *
QUADRANT SE *
WEST_LONGITUDE -123 11 15.000 *
EAST_LONGITUDE -123 7 30.000 *
NORTH_LATITUDE 40 11 15.000 *
SOUTH_LATITUDE 40 7 30.000 *
PRODUCTION_DATE 2001 5 2 *
RASTER_ORDER LEFT_RIGHT/TOP_BOTTOM *
BAND_ORGANIZATION "SINGLE FILE" *
BAND_CONTENT BLACK&WHITE *
BITS_PER_PIXEL 8 *
SAMPLES_AND_LINES 6031 7560 *
HORIZONTAL_DATUM NAD83 *
HORIZONTAL_COORDINATE_SYSTEM UTM *
COORDINATE_ZONE 10 *
HORIZONTAL_UNITS METERS *
HORIZONTAL_RESOLUTION 1.0 *
SECONDARY_HORIZONTAL_DATUM NAD27 *
XY_ORIGIN 483628.478 4448885.075 *
SECONDARY_XY_ORIGIN 483724.400 4448688.730 *
NATION US *
STATE CA *
NW_QUAD_CORNER_XY 484038.913 4448585.075 *
NE_QUAD_CORNER_XY 489359.277 4448575.712 *
SE_QUAD_CORNER_XY 489349.517 4441638.633 *
SW_QUAD_CORNER_XY 484024.273 4441647.992 *
SECONDARY_NW_QUAD_XY 484038.494 4448374.673 *
SECONDARY_NE_QUAD_XY 489358.998 4448365.310 *
SECONDARY_SE_QUAD_XY 489349.239 4441428.352 *
SECONDARY_SW_QUAD_XY 484023.854 4441437.711 *
RMSE_XY 0.65 *
IMAGE_SOURCE "BLACK AND WHITE FILM" *
SOURCE_IMAGE_ID "NAPP 10481 88" *
SOURCE_IMAGE_DATE 1998 8 14 *
SOURCE_IMAGE_ID "NAPP 10481 87" *
SOURCE_IMAGE_DATE 1998 8 14 *
SOURCE_IMAGE_ID "NAPP 10481 89" *
SOURCE_IMAGE_DATE 1998 8 14 *
SOURCE_IMAGE_ID "NAPP 10481 70" *
SOURCE_IMAGE_DATE 1998 8 14 *
SOURCE_IMAGE_ID "NAPP 10481 69" *
SOURCE_IMAGE_DATE 1998 8 14 *
SOURCE_IMAGE_ID "NAPP 10481 68" *
SOURCE_IMAGE_DATE 1998 8 14 *
SOURCE_DEM_DATE 1976 1 1 *
AGENCY "WESTERN MAPPING CENTER (WMC)" *
PRODUCER "USDA FS GEOSPATIAL SERVICE AND TECHNOLOGY CENTER" *
PRODUCTION_SYSTEM "ORBIT OR_RECTIFY V.5.2" *
STANDARD_VERSION 1996 12 *
METADATA_DATE 2001 5 2 *
DATA_FILE_SIZE 45600391 *
BYTE_COUNT 6031 * * * * * * * * * * * * * * * * * * * * * * *
END_USGS_HEADER *
