BEGIN_USGS_DOQ_HEADER *
QUADRANGLE_NAME "SHANNON BUTTE" 3.45 or 7.5-min. name*
QUADRANT NE quadrant indicator if cell size = 3.75-minutes*
WEST_LONGITUDE -123 18 45.000 signed deg min sec SDDD MM SS.SSS*
EAST_LONGITUDE -123 15 0.000 signed deg min sec SDDD MM SS.SSS*
NORTH_LATITUDE 40 15 0.000 signed deg min sec SDDD MM SS.SSS*
SOUTH_LATITUDE 40 11 15.000 signed deg min sec SDDD MM SS.SSS*
PRODUCTION_DATE 1996 4 12 yyyy mm dd*
RASTER_ORDER LEFT_RIGHT/TOP_BOTTOM video display order*
BAND_ORGANIZATION "SINGLE FILE" single file or BSQ, or BIL or BIP*
BAND_CONTENT BLACK&WHITE black&white or red green blue*
BITS_PER_PIXEL 8 radiometric resolution*
SAMPLES_AND_LINES 6046 7578 number of columns and rows*
HORIZONTAL_DATUM NAD83 primary horizontal datum*
HORIZONTAL_COORDINATE_SYSTEM UTM *
COORDINATE_ZONE 10 coordinate system zone number*
HORIZONTAL_UNITS METERS coordinate system units*
HORIZONTAL_RESOLUTION 1.00 pixel horiz. ground sample distance*
SECONDARY_HORIZONTAL_DATUM NAD27 secondary horizontal datum*
XY_ORIGIN 472997.500 4455856.500 coord. of upper left pixel pri. datum*
SECONDARY_XY_ORIGIN 473093.415 4455660.117 coord upper left pixel sec datum*
NATION US nation code*
STATE CA state fip code*
NW_QUAD_CORNER_XY 473422.606 4455552.204 XY coords. of pri. NW quad corner*
NE_QUAD_CORNER_XY 478738.091 4455535.345 XY coords. of pri. NE quad corner*
SE_QUAD_CORNER_XY 478718.546 4448598.183 XY coords. of pri. SE quad corner*
SW_QUAD_CORNER_XY 473398.174 4448615.036 XY coords. of pri. SW quad corner*
SECONDARY_NW_QUAD_XY 473421.903 4455341.682 XY coords. - sec. NW quad cor.*
SECONDARY_NE_QUAD_XY 478737.529 4455324.822 XY coords. - sec. NE quad cor.*
SECONDARY_SE_QUAD_XY 478717.984 4448387.780 XY coords. - sec. SE quad cor.*
SECONDARY_SW_QUAD_XY 473397.472 4448404.633 XY coords. - sec. SW quad cor.*
RMSE_XY 4.10 doq horiz. accuracy*
IMAGE_SOURCE "BLACK AND WHITE FILM" b&w, cir, natural color, other*
SOURCE_IMAGE_ID "PAPP 1251 333" source image id*
SOURCE_IMAGE_DATE 1993 6 24 source image date as yyyy mm dd*
IMAGE_SOURCE "BLACK AND WHITE FILM" b&w, cir, natural color, other*
SOURCE_IMAGE_ID "PAPP 1251 434" source image id*
SOURCE_IMAGE_DATE 1993 6 24 source image date as yyyy mm dd*
SOURCE_DEM_DATE 1996 4 12 source dem date yyyy mm dd*
AGENCY "WESTERN MAPPING CENTER (WMC)" oversight agency*
PRODUCER "Woolpert Consultants" producer/contractor*
PRODUCTION_SYSTEM "INTERGRAPH ISPM,ISIR" production system*
STANDARD_VERSION 1996 12 version of DOQ standard*
METADATA_DATE 1997 5 27 date created or changed, yyyy mm dd*
DATA_FILE_SIZE 45822634 data set size in bytes*
BYTE_COUNT 6046 header byte count* * * * * * * * * * * * * * * * * * * * * * * * * * * * * *
END_USGS_HEADER *
