BEGIN_USGS_DOQ_HEADER *
QUADRANGLE_NAME "ZENIA" *
QUADRANT SE *
WEST_LONGITUDE -123 26 15.000 *
EAST_LONGITUDE -123 22 30.000 *
NORTH_LATITUDE 40 11 15.000 *
SOUTH_LATITUDE 40 7 30.000 *
PRODUCTION_DATE 2001 5 2 *
RASTER_ORDER LEFT_RIGHT/TOP_BOTTOM *
BAND_ORGANIZATION "SINGLE FILE" *
BAND_CONTENT BLACK&WHITE *
BITS_PER_PIXEL 8 *
SAMPLES_AND_LINES 6051 7575 *
HORIZONTAL_DATUM NAD83 *
HORIZONTAL_COORDINATE_SYSTEM UTM *
COORDINATE_ZONE 10 *
HORIZONTAL_UNITS METERS *
HORIZONTAL_RESOLUTION 1.0 *
SECONDARY_HORIZONTAL_DATUM NAD27 *
XY_ORIGIN 462326.954 4448959.477 *
SECONDARY_XY_ORIGIN 462422.810 4448763.075 *
NATION US *
STATE CA *
NW_QUAD_CORNER_XY 462757.414 4448659.977 *
NE_QUAD_CORNER_XY 468077.797 4448635.633 *
SE_QUAD_CORNER_XY 468048.517 4441698.532 *
SW_QUAD_CORNER_XY 462723.254 4441722.866 *
SECONDARY_NW_QUAD_XY 462756.433 4448449.576 *
SECONDARY_NE_QUAD_XY 468076.957 4448425.233 *
SECONDARY_SE_QUAD_XY 468047.677 4441488.252 *
SECONDARY_SW_QUAD_XY 462722.273 4441512.586 *
RMSE_XY 0.65 *
IMAGE_SOURCE "BLACK AND WHITE FILM" *
SOURCE_IMAGE_ID "NAPP 10479 192" *
SOURCE_IMAGE_DATE 1998 8 13 *
SOURCE_IMAGE_ID "NAPP 10479 191" *
SOURCE_IMAGE_DATE 1998 8 13 *
SOURCE_IMAGE_ID "NAPP 10479 193" *
SOURCE_IMAGE_DATE 1998 8 13 *
SOURCE_IMAGE_ID "NAPP 10480 255" *
SOURCE_IMAGE_DATE 1998 8 13 *
SOURCE_IMAGE_ID "NAPP 10480 254" *
SOURCE_IMAGE_DATE 1998 8 13 *
SOURCE_IMAGE_ID "NAPP 10480 253" *
SOURCE_IMAGE_DATE 1998 8 13 *
SOURCE_IMAGE_ID "NAPP 10479 150" *
SOURCE_IMAGE_DATE 1998 8 13 *
SOURCE_IMAGE_ID "NAPP 10479 149" *
SOURCE_IMAGE_DATE 1998 8 13 *
SOURCE_IMAGE_ID "NAPP 10479 148" *
SOURCE_IMAGE_DATE 1998 8 13 *
SOURCE_DEM_DATE 1967 1 1 *
AGENCY "WESTERN MAPPING CENTER (WMC)" *
PRODUCER "USDA FS GEOSPATIAL SERVICE AND TECHNOLOGY CENTER" *
PRODUCTION_SYSTEM "ORBIT OR_RECTIFY V.5.2" *
STANDARD_VERSION 1996 12 *
METADATA_DATE 2001 3 29 *
DATA_FILE_SIZE 45842376 *
BYTE_COUNT 6051 * * * * * * * * * * * * * * * * *
END_USGS_HEADER *
