BEGIN_USGS_DOQ_HEADER *
QUADRANGLE_NAME "ALDERPOINT" 3.45 or 7.5-min. name*
QUADRANT SE quadrant indicator if cell size = 3.75-minutes*
WEST_LONGITUDE -123 33 45.000 signed deg min sec SDDD MM SS.SSS*
EAST_LONGITUDE -123 30 0.000 signed deg min sec SDDD MM SS.SSS*
NORTH_LATITUDE 40 11 15.000 signed deg min sec SDDD MM SS.SSS*
SOUTH_LATITUDE 40 7 30.000 signed deg min sec SDDD MM SS.SSS*
PRODUCTION_DATE 1996 4 18 yyyy mm dd*
RASTER_ORDER LEFT_RIGHT/TOP_BOTTOM video display order*
BAND_ORGANIZATION "SINGLE FILE" single file or BSQ, or BIL or BIP*
BAND_CONTENT BLACK&WHITE black&white or red green blue*
BITS_PER_PIXEL 8 radiometric resolution*
SAMPLES_AND_LINES 6071 7593 number of columns and rows*
HORIZONTAL_DATUM NAD83 primary horizontal datum*
HORIZONTAL_COORDINATE_SYSTEM UTM *
COORDINATE_ZONE 10 coordinate system zone number*
HORIZONTAL_UNITS METERS coordinate system units*
HORIZONTAL_RESOLUTION 1.00 pixel horiz. ground sample distance*
SECONDARY_HORIZONTAL_DATUM NAD27 secondary horizontal datum*
XY_ORIGIN 451670.500 4449024.500 coord. of upper left pixel pri. datum*
SECONDARY_XY_ORIGIN 451766.298 4448828.113 coord upper left pixel sec datum*
NATION US nation code*
STATE CA state fip code*
NW_QUAD_CORNER_XY 452116.624 4448719.899 XY coords. of pri. NW quad corner*
NE_QUAD_CORNER_XY 457437.023 4448688.065 XY coords. of pri. NE quad corner*
SE_QUAD_CORNER_XY 457397.983 4441750.944 XY coords. of pri. SE quad corner*
SW_QUAD_CORNER_XY 452072.703 4441782.765 XY coords. of pri. SW quad corner*
SECONDARY_NW_QUAD_XY 452115.360 4448509.499 XY coords. - sec. NW quad cor.*
SECONDARY_NE_QUAD_XY 457435.900 4448477.665 XY coords. - sec. NE quad cor.*
SECONDARY_SE_QUAD_XY 457396.860 4441540.664 XY coords. - sec. SE quad cor.*
SECONDARY_SW_QUAD_XY 452071.440 4441572.487 XY coords. - sec. SW quad cor.*
RMSE_XY 4.60 doq horiz. accuracy*
IMAGE_SOURCE "BLACK AND WHITE FILM" b&w, cir, natural color, other*
SOURCE_IMAGE_ID "PAPP 0250 919" source image id*
SOURCE_IMAGE_DATE 1993 6 24 source image date as yyyy mm dd*
IMAGE_SOURCE "BLACK AND WHITE FILM" b&w, cir, natural color, other*
SOURCE_IMAGE_ID "PAPP 0250 818" source image id*
SOURCE_IMAGE_DATE 1993 6 24 source image date as yyyy mm dd*
IMAGE_SOURCE "BLACK AND WHITE FILM" b&w, cir, natural color, other*
SOURCE_IMAGE_ID "PAPP 0250 020" source image id*
SOURCE_IMAGE_DATE 1993 6 24 source image date as yyyy mm dd*
SOURCE_DEM_DATE 1996 4 18 source dem date yyyy mm dd*
AGENCY "WESTERN MAPPING CENTER (WMC)" oversight agency*
PRODUCER "Woolpert Consultants" producer/contractor*
PRODUCTION_SYSTEM "INTERGRAPH ISPM,ISIR" production system*
STANDARD_VERSION 1996 12 version of DOQ standard*
METADATA_DATE 1997 5 27 date created or changed, yyyy mm dd*
DATA_FILE_SIZE 46103174 data set size in bytes*
BYTE_COUNT 6071 header byte count* * * * * * * * * * * * * * * * * * * * * * * * * * *
END_USGS_HEADER *
