BEGIN_USGS_DOQ_HEADER *
QUADRANGLE_NAME "MIRANDA" 3.45 or 7.5-min. name*
QUADRANT NW quadrant indicator if cell size = 3.75-minutes*
WEST_LONGITUDE -123 52 30.000 signed deg min sec SDDD MM SS.SSS*
EAST_LONGITUDE -123 48 45.000 signed deg min sec SDDD MM SS.SSS*
NORTH_LATITUDE 40 15 0.000 signed deg min sec SDDD MM SS.SSS*
SOUTH_LATITUDE 40 11 15.000 signed deg min sec SDDD MM SS.SSS*
PRODUCTION_DATE 2000 9 20 yyyy mm dd*
RASTER_ORDER LEFT_RIGHT/TOP_BOTTOM video display order*
BAND_ORGANIZATION "SINGLE FILE" single file or BSQ, or BIL or BIP*
BAND_CONTENT BLACK&WHITE single file or BSQ, or BIL or BIP*
BITS_PER_PIXEL 8 radiometric resolution*
SAMPLES_AND_LINES 6042 7563 number of columns and rows*
HORIZONTAL_DATUM NAD83 primary horizontal datum*
HORIZONTAL_COORDINATE_SYSTEM UTM horizontal datum name*
COORDINATE_ZONE 10 coordinate system zone number*
HORIZONTAL_UNITS METERS coordinate system units*
HORIZONTAL_RESOLUTION 1.00 pixel horiz. ground sample distance*
SECONDARY_HORIZONTAL_DATUM NAD27 secondary horizontal datum*
XY_ORIGIN 425136.000 4456153.000 coord. of upper left pixel pri. datum*
SECONDARY_XY_ORIGIN 425231.795 4455956.653 coord upper left pixel sec datum*
NATION US nation code*
STATE CA state fip code*
NW_QUAD_CORNER_XY 425582.874 4455872.540 XY coords. of pri. NW quad corner*
NE_QUAD_CORNER_XY 430898.445 4455821.959 XY coords. of pri. NE quad corner*
SE_QUAD_CORNER_XY 430834.918 4448884.690 XY coords. of pri. SE quad corner*
SW_QUAD_CORNER_XY 425514.460 4448935.252 XY coords. of pri. SW quad corner*
SECONDARY_NW_QUAD_XY 425580.907 4455662.026 XY coords. - sec. NW quad cor.*
SECONDARY_NE_QUAD_XY 430896.618 4455611.444 XY coords. - sec. NE quad cor.*
SECONDARY_SE_QUAD_XY 430833.093 4448674.295 XY coords. - sec. SE quad cor.*
SECONDARY_SW_QUAD_XY 425512.494 4448724.858 XY coords. - sec. SW quad cor.*
RMSE_XY 0.10 doq horiz. accuracy*
IMAGE_SOURCE "BLACK AND WHITE FILM" b&w, cir, natural color, other*
SOURCE_IMAGE_ID "NAPP 10489 018" source image id*
SOURCE_IMAGE_DATE 1998 9 11 source image date as yyyy mm dd*
SOURCE_DEM_DATE 1970 01 01 source dem date yyyy mm dd*
AGENCY "WESTERN MAPPING CENTER (WMC)" oversight agency*
PRODUCER "EARTHDATA INTERNATIONAL" producer/contractor*
PRODUCTION_SYSTEM "SGI AUTOMETRIC" production system*
STANDARD_VERSION 1996 12 version of DOQ standard*
METADATA_DATE 2000 9 20 date created or changed, yyyy mm dd*
DATA_FILE_SIZE 45701688 data set size in bytes*
BYTE_COUNT 6042 header byte count* * * * * * * * * * * * * * * * * * * * * * * * * * * * * * * * *
END_USGS_HEADER *
