BEGIN_USGS_DOQ_HEADER *
QUADRANGLE_NAME "SMOKY CREEK" *
QUADRANT SE *
WEST_LONGITUDE -123 11 15.000 *
EAST_LONGITUDE -123 7 30.000 *
NORTH_LATITUDE 40 18 45.000 *
SOUTH_LATITUDE 40 15 0.000 *
PRODUCTION_DATE 2001 6 25 *
RASTER_ORDER LEFT_RIGHT/TOP_BOTTOM *
BAND_ORGANIZATION "SINGLE FILE" *
BAND_CONTENT BLACK&WHITE *
BITS_PER_PIXEL 8 *
SAMPLES_AND_LINES 6022 7561 *
HORIZONTAL_DATUM NAD83 *
HORIZONTAL_COORDINATE_SYSTEM UTM *
COORDINATE_ZONE 10 *
HORIZONTAL_UNITS METERS *
HORIZONTAL_RESOLUTION 1.0 *
SECONDARY_HORIZONTAL_DATUM NAD27 *
XY_ORIGIN 483657.186 4462758.966 *
SECONDARY_XY_ORIGIN 483753.180 4462562.595 *
NATION US *
STATE CA *
NW_QUAD_CORNER_XY 484068.250 4462459.466 *
NE_QUAD_CORNER_XY 489378.835 4462450.096 *
SE_QUAD_CORNER_XY 489369.050 4455512.867 *
SW_QUAD_CORNER_XY 484053.572 4455522.233 *
SECONDARY_NW_QUAD_XY 484067.829 4462248.824 *
SECONDARY_NE_QUAD_XY 489378.555 4462239.455 *
SECONDARY_SE_QUAD_XY 489368.770 4455302.344 *
SECONDARY_SW_QUAD_XY 484053.152 4455311.711 *
RMSE_XY 0.93 *
IMAGE_SOURCE "BLACK AND WHITE FILM" *
SOURCE_IMAGE_ID "NAPP 10481 92" *
SOURCE_IMAGE_DATE 1998 8 14 *
SOURCE_IMAGE_ID "NAPP 10481 91" *
SOURCE_IMAGE_DATE 1998 8 14 *
SOURCE_IMAGE_ID "NAPP 10481 93" *
SOURCE_IMAGE_DATE 1998 8 14 *
SOURCE_IMAGE_ID "NAPP 10481 66" *
SOURCE_IMAGE_DATE 1998 8 14 *
SOURCE_IMAGE_ID "NAPP 10481 65" *
SOURCE_IMAGE_DATE 1998 8 14 *
SOURCE_IMAGE_ID "NAPP 10481 64" *
SOURCE_IMAGE_DATE 1998 8 14 *
SOURCE_IMAGE_ID "NAPP 10481 25" *
SOURCE_IMAGE_DATE 1998 8 14 *
SOURCE_IMAGE_ID "NAPP 10481 26" *
SOURCE_IMAGE_DATE 1998 8 14 *
SOURCE_IMAGE_ID "NAPP 10481 27" *
SOURCE_IMAGE_DATE 1998 8 14 *
SOURCE_DEM_DATE 1999 0 0 *
AGENCY "WESTERN MAPPING CENTER (WMC)" *
PRODUCER "USDA FS GEOSPATIAL SERVICE AND TECHNOLOGY CENTER" *
PRODUCTION_SYSTEM "ORBIT OR_RECTIFY V.5.2" *
STANDARD_VERSION 1996 12 *
METADATA_DATE 2001 6 29 *
DATA_FILE_SIZE 45538364 *
BYTE_COUNT 6022 * * * * * * * * * * * * * * * * *
END_USGS_HEADER *
