BEGIN_USGS_DOQ_HEADER *
QUADRANGLE_NAME "FOREST GLEN" *
QUADRANT NW *
WEST_LONGITUDE -123 22 30.000 *
EAST_LONGITUDE -123 18 45.000 *
NORTH_LATITUDE 40 22 30.000 *
SOUTH_LATITUDE 40 18 45.000 *
PRODUCTION_DATE 2001 5 2 *
RASTER_ORDER LEFT_RIGHT/TOP_BOTTOM *
BAND_ORGANIZATION "SINGLE FILE" *
BAND_CONTENT BLACK&WHITE *
BITS_PER_PIXEL 8 *
SAMPLES_AND_LINES 6032 7572 *
HORIZONTAL_DATUM NAD83 *
HORIZONTAL_COORDINATE_SYSTEM UTM *
COORDINATE_ZONE 10 *
HORIZONTAL_UNITS METERS *
HORIZONTAL_RESOLUTION 1.0 *
SECONDARY_HORIZONTAL_DATUM NAD27 *
XY_ORIGIN 467739.688 4469747.387 *
SECONDARY_XY_ORIGIN 467835.669 4469550.949 *
NATION US *
STATE CA *
NW_QUAD_CORNER_XY 468165.865 4469447.387 *
NE_QUAD_CORNER_XY 473471.564 4469426.767 *
SE_QUAD_CORNER_XY 473447.069 4462489.448 *
SW_QUAD_CORNER_XY 468136.471 4462510.061 *
SECONDARY_NW_QUAD_XY 468165.024 4469236.628 *
SECONDARY_NE_QUAD_XY 473470.863 4469216.007 *
SECONDARY_SE_QUAD_XY 473446.368 4462278.807 *
SECONDARY_SW_QUAD_XY 468135.630 4462299.421 *
RMSE_XY 0.65 *
IMAGE_SOURCE "BLACK AND WHITE FILM" *
SOURCE_IMAGE_ID "NAPP 10479 143" *
SOURCE_IMAGE_DATE 1998 8 13 *
SOURCE_IMAGE_ID "NAPP 10479 144" *
SOURCE_IMAGE_DATE 1998 8 13 *
SOURCE_IMAGE_ID "NAPP 10479 142" *
SOURCE_IMAGE_DATE 1998 8 13 *
SOURCE_IMAGE_ID "NAPP 10479 197" *
SOURCE_IMAGE_DATE 1998 8 13 *
SOURCE_IMAGE_ID "NAPP 10479 198" *
SOURCE_IMAGE_DATE 1998 8 13 *
SOURCE_IMAGE_ID "NAPP 10479 199" *
SOURCE_IMAGE_DATE 1998 8 13 *
SOURCE_IMAGE_ID "NAPP 10479 27" *
SOURCE_IMAGE_DATE 1998 8 13 *
SOURCE_IMAGE_ID "NAPP 10479 28" *
SOURCE_IMAGE_DATE 1998 8 13 *
SOURCE_IMAGE_ID "NAPP 10479 29" *
SOURCE_IMAGE_DATE 1998 8 13 *
SOURCE_DEM_DATE 1979 1 1 *
AGENCY "WESTERN MAPPING CENTER (WMC)" *
PRODUCER "USDA FS GEOSPATIAL SERVICE AND TECHNOLOGY CENTER" *
PRODUCTION_SYSTEM "ORBIT OR_RECTIFY V.5.2" *
STANDARD_VERSION 1996 12 *
METADATA_DATE 2001 3 29 *
DATA_FILE_SIZE 45680336 *
BYTE_COUNT 6032 * * * * * * * * * * * * * * * * *
END_USGS_HEADER *
