BEGIN_USGS_DOQ_HEADER *
QUADRANGLE_NAME "RUTH LAKE" *
QUADRANT NW *
WEST_LONGITUDE -123 30 0.000 *
EAST_LONGITUDE -123 26 15.000 *
NORTH_LATITUDE 40 22 30.000 *
SOUTH_LATITUDE 40 18 45.000 *
PRODUCTION_DATE 2001 5 2 *
RASTER_ORDER LEFT_RIGHT/TOP_BOTTOM *
BAND_ORGANIZATION "SINGLE FILE" *
BAND_CONTENT BLACK&WHITE *
BITS_PER_PIXEL 8 *
SAMPLES_AND_LINES 6042 7580 *
HORIZONTAL_DATUM NAD83 *
HORIZONTAL_COORDINATE_SYSTEM UTM *
COORDINATE_ZONE 10 *
HORIZONTAL_UNITS METERS *
HORIZONTAL_RESOLUTION 1.0 *
SECONDARY_HORIZONTAL_DATUM NAD27 *
XY_ORIGIN 457118.208 4469799.877 *
SECONDARY_XY_ORIGIN 457214.180 4469603.384 *
NATION US *
STATE CA *
NW_QUAD_CORNER_XY 457554.449 4469499.877 *
NE_QUAD_CORNER_XY 462860.161 4469471.757 *
SE_QUAD_CORNER_XY 462825.867 4462534.422 *
SW_QUAD_CORNER_XY 457515.256 4462562.532 *
SECONDARY_NW_QUAD_XY 457553.325 4469289.120 *
SECONDARY_NE_QUAD_XY 462859.178 4469260.999 *
SECONDARY_SE_QUAD_XY 462824.885 4462323.783 *
SECONDARY_SW_QUAD_XY 457514.133 4462351.893 *
RMSE_XY 0.65 *
IMAGE_SOURCE "BLACK AND WHITE FILM" *
SOURCE_IMAGE_ID "NAPP 10480 248" *
SOURCE_IMAGE_DATE 1998 8 13 *
SOURCE_IMAGE_ID "NAPP 10480 249" *
SOURCE_IMAGE_DATE 1998 8 13 *
SOURCE_IMAGE_ID "NAPP 10480 247" *
SOURCE_IMAGE_DATE 1998 8 13 *
SOURCE_IMAGE_ID "NAPP 10480 59" *
SOURCE_IMAGE_DATE 1998 8 13 *
SOURCE_IMAGE_ID "NAPP 10480 58" *
SOURCE_IMAGE_DATE 1998 8 13 *
SOURCE_IMAGE_ID "NAPP 10480 57" *
SOURCE_IMAGE_DATE 1998 8 13 *
SOURCE_IMAGE_ID "NAPP 10479 197" *
SOURCE_IMAGE_DATE 1998 8 13 *
SOURCE_IMAGE_ID "NAPP 10479 198" *
SOURCE_IMAGE_DATE 1998 8 13 *
SOURCE_IMAGE_ID "NAPP 10479 199" *
SOURCE_IMAGE_DATE 1998 8 13 *
SOURCE_DEM_DATE 1978 1 1 *
AGENCY "WESTERN MAPPING CENTER (WMC)" *
PRODUCER "USDA FS GEOSPATIAL SERVICE AND TECHNOLOGY CENTER" *
PRODUCTION_SYSTEM "ORBIT OR_RECTIFY V.5.2" *
STANDARD_VERSION 1996 12 *
METADATA_DATE 2001 3 29 *
DATA_FILE_SIZE 45804402 *
BYTE_COUNT 6042 * * * * * * * * * * * * * * * * *
END_USGS_HEADER *
