BEGIN_USGS_DOQ_HEADER *
QUADRANGLE_NAME "BLACK LASSIC" *
QUADRANT NE *
WEST_LONGITUDE -123 33 45.000 *
EAST_LONGITUDE -123 30 0.000 *
NORTH_LATITUDE 40 22 30.000 *
SOUTH_LATITUDE 40 18 45.000 *
PRODUCTION_DATE 2001 5 2 *
RASTER_ORDER LEFT_RIGHT/TOP_BOTTOM *
BAND_ORGANIZATION "SINGLE FILE" *
BAND_CONTENT BLACK&WHITE *
BITS_PER_PIXEL 8 *
SAMPLES_AND_LINES 6047 7583 *
HORIZONTAL_DATUM NAD83 *
HORIZONTAL_COORDINATE_SYSTEM UTM *
COORDINATE_ZONE 10 *
HORIZONTAL_UNITS METERS *
HORIZONTAL_RESOLUTION 1.0 *
SECONDARY_HORIZONTAL_DATUM NAD27 *
XY_ORIGIN 451807.973 4469831.245 *
SECONDARY_XY_ORIGIN 451903.924 4469634.773 *
NATION US *
STATE CA *
NW_QUAD_CORNER_XY 452248.729 4469531.745 *
NE_QUAD_CORNER_XY 457554.449 4469499.877 *
SE_QUAD_CORNER_XY 457515.256 4462562.532 *
SW_QUAD_CORNER_XY 452204.636 4462594.389 *
SECONDARY_NW_QUAD_XY 452247.464 4469320.990 *
SECONDARY_NE_QUAD_XY 457553.325 4469289.120 *
SECONDARY_SE_QUAD_XY 457514.133 4462351.893 *
SECONDARY_SW_QUAD_XY 452203.373 4462383.752 *
RMSE_XY 0.65 *
IMAGE_SOURCE "BLACK AND WHITE FILM" *
SOURCE_IMAGE_ID "NAPP 10480 58" *
SOURCE_IMAGE_DATE 1998 8 13 *
SOURCE_IMAGE_ID "NAPP 10480 59" *
SOURCE_IMAGE_DATE 1998 8 13 *
SOURCE_IMAGE_ID "NAPP 10480 57" *
SOURCE_IMAGE_DATE 1998 8 13 *
SOURCE_IMAGE_ID "NAPP 10477 27" *
SOURCE_IMAGE_DATE 1998 8 12 *
SOURCE_IMAGE_ID "NAPP 10477 28" *
SOURCE_IMAGE_DATE 1998 8 12 *
SOURCE_IMAGE_ID "NAPP 10477 29" *
SOURCE_IMAGE_DATE 1998 8 12 *
SOURCE_IMAGE_ID "NAPP 10480 249" *
SOURCE_IMAGE_DATE 1998 8 13 *
SOURCE_IMAGE_ID "NAPP 10480 248" *
SOURCE_IMAGE_DATE 1998 8 13 *
SOURCE_IMAGE_ID "NAPP 10480 247" *
SOURCE_IMAGE_DATE 1998 8 13 *
SOURCE_DEM_DATE 2000 0 0 *
AGENCY "WESTERN MAPPING CENTER (WMC)" *
PRODUCER "USDA FS GEOSPATIAL SERVICE AND TECHNOLOGY CENTER" *
PRODUCTION_SYSTEM "ORBIT OR_RECTIFY V.5.2" *
STANDARD_VERSION 1996 12 *
METADATA_DATE 2001 3 29 *
DATA_FILE_SIZE 45860448 *
BYTE_COUNT 6047 * * * * * * * * * * * * * * * * *
END_USGS_HEADER *
