BEGIN_USGS_DOQ_HEADER *
QUADRANGLE_NAME "WEOTT" 3.45 or 7.5-min. name*
QUADRANT NW quadrant indicator if cell size = 3.75-minutes*
WEST_LONGITUDE -123 60 0.000 signed deg min sec SDDD MM SS.SSS*
EAST_LONGITUDE -123 56 15.000 signed deg min sec SDDD MM SS.SSS*
NORTH_LATITUDE 40 22 30.000 signed deg min sec SDDD MM SS.SSS*
SOUTH_LATITUDE 40 18 45.000 signed deg min sec SDDD MM SS.SSS*
PRODUCTION_DATE 2000 9 20 yyyy mm dd*
RASTER_ORDER LEFT_RIGHT/TOP_BOTTOM video display order*
BAND_ORGANIZATION "SINGLE FILE" single file or BSQ, or BIL or BIP*
BAND_CONTENT BLACK&WHITE single file or BSQ, or BIL or BIP*
BITS_PER_PIXEL 8 radiometric resolution*
SAMPLES_AND_LINES 6043 7570 number of columns and rows*
HORIZONTAL_DATUM NAD83 primary horizontal datum*
HORIZONTAL_COORDINATE_SYSTEM UTM horizontal datum name*
COORDINATE_ZONE 10 coordinate system zone number*
HORIZONTAL_UNITS METERS coordinate system units*
HORIZONTAL_RESOLUTION 1.00 pixel horiz. ground sample distance*
SECONDARY_HORIZONTAL_DATUM NAD27 secondary horizontal datum*
XY_ORIGIN 414651.000 4470140.000 coord. of upper left pixel pri. datum*
SECONDARY_XY_ORIGIN 414746.879 4469943.567 coord upper left pixel sec datum*
NATION US nation code*
STATE CA state fip code*
NW_QUAD_CORNER_XY 415108.371 4469859.822 XY coords. of pri. NW quad corner*
NE_QUAD_CORNER_XY 420414.177 4469801.704 XY coords. of pri. NE quad corner*
SE_QUAD_CORNER_XY 420340.685 4462864.250 XY coords. of pri. SE quad corner*
SW_QUAD_CORNER_XY 415029.978 4462922.347 XY coords. of pri. SW quad corner*
SECONDARY_NW_QUAD_XY 415106.120 4469649.074 XY coords. - sec. NW quad cor.*
SECONDARY_NE_QUAD_XY 420412.068 4469590.954 XY coords. - sec. NE quad cor.*
SECONDARY_SE_QUAD_XY 420338.577 4462653.618 XY coords. - sec. SE quad cor.*
SECONDARY_SW_QUAD_XY 415027.729 4462711.717 XY coords. - sec. SW quad cor.*
RMSE_XY 0.10 doq horiz. accuracy*
IMAGE_SOURCE "BLACK AND WHITE FILM" b&w, cir, natural color, other*
SOURCE_IMAGE_ID "NAPP 10478 273" source image id*
SOURCE_IMAGE_DATE 1998 8 12 source image date as yyyy mm dd*
SOURCE_DEM_DATE 1968 01 01 source dem date yyyy mm dd*
AGENCY "WESTERN MAPPING CENTER (WMC)" oversight agency*
PRODUCER "EARTHDATA INTERNATIONAL" producer/contractor*
PRODUCTION_SYSTEM "SGI AUTOMETRIC" production system*
STANDARD_VERSION 1996 12 version of DOQ standard*
METADATA_DATE 2000 9 20 date created or changed, yyyy mm dd*
DATA_FILE_SIZE 45751553 data set size in bytes*
BYTE_COUNT 6043 header byte count* * * * * * * * * * * * * * * * * * * * * * * * * * * * * * * * *
END_USGS_HEADER *
