BEGIN_USGS_DOQ_HEADER *
QUADRANGLE_NAME "WILDWOOD" *
QUADRANT NE *
WEST_LONGITUDE -123 3 45.000 *
EAST_LONGITUDE -123 0 0.000 *
NORTH_LATITUDE 40 30 0.000 *
SOUTH_LATITUDE 40 26 15.000 *
PRODUCTION_DATE 2001 7 23 *
RASTER_ORDER LEFT_RIGHT/TOP_BOTTOM *
BAND_ORGANIZATION "SINGLE FILE" *
BAND_CONTENT BLACK&WHITE *
BITS_PER_PIXEL 8 *
SAMPLES_AND_LINES 5997 7554 *
HORIZONTAL_DATUM NAD83 *
HORIZONTAL_COORDINATE_SYSTEM UTM *
COORDINATE_ZONE 10 *
HORIZONTAL_UNITS METERS *
HORIZONTAL_RESOLUTION 1.0 *
SECONDARY_HORIZONTAL_DATUM NAD27 *
XY_ORIGIN 494303.460 4483556.608 *
SECONDARY_XY_ORIGIN 494399.607 4483360.210 *
NATION US *
STATE CA *
NW_QUAD_CORNER_XY 494704.134 4483256.608 *
NE_QUAD_CORNER_XY 500000.000 4483254.732 *
SE_QUAD_CORNER_XY 500000.000 4476317.279 *
SW_QUAD_CORNER_XY 494699.222 4476319.155 *
SECONDARY_NW_QUAD_XY 494703.995 4483045.613 *
SECONDARY_NE_QUAD_XY 500000.002 4483043.737 *
SECONDARY_SE_QUAD_XY 500000.001 4476106.402 *
SECONDARY_SW_QUAD_XY 494699.083 4476108.277 *
RMSE_XY 0.98 *
IMAGE_SOURCE "BLACK AND WHITE FILM" *
SOURCE_IMAGE_ID "NAPP 10483 32" *
SOURCE_IMAGE_DATE 1998 8 19 *
SOURCE_IMAGE_ID "NAPP 10483 31" *
SOURCE_IMAGE_DATE 1998 8 19 *
SOURCE_IMAGE_ID "NAPP 10483 33" *
SOURCE_IMAGE_DATE 1998 8 19 *
SOURCE_IMAGE_ID "NAPP 10481 31" *
SOURCE_IMAGE_DATE 1998 8 14 *
SOURCE_IMAGE_ID "NAPP 10481 32" *
SOURCE_IMAGE_DATE 1998 8 14 *
SOURCE_IMAGE_ID "NAPP 10481 33" *
SOURCE_IMAGE_DATE 1998 8 14 *
SOURCE_IMAGE_ID "NAPP 10482 171" *
SOURCE_IMAGE_DATE 1998 8 14 *
SOURCE_IMAGE_ID "NAPP 10482 170" *
SOURCE_IMAGE_DATE 1998 8 14 *
SOURCE_IMAGE_ID "NAPP 10482 169" *
SOURCE_IMAGE_DATE 1998 8 14 *
SOURCE_DEM_DATE 2000 0 0 *
AGENCY "WESTERN MAPPING CENTER (WMC)" *
PRODUCER "USDA FS GEOSPATIAL SERVICE AND TECHNOLOGY CENTER" *
PRODUCTION_SYSTEM "ORBIT OR_RECTIFY V.5.2" *
STANDARD_VERSION 1996 12 *
METADATA_DATE 2001 7 25 *
DATA_FILE_SIZE 45307335 *
BYTE_COUNT 5997 * * * * * * * * * * * * * * * *
END_USGS_HEADER *
