BEGIN_USGS_DOQ_HEADER *
QUADRANGLE_NAME "NAUFUS CREEK" *
QUADRANT NW *
WEST_LONGITUDE -123 22 30.000 *
EAST_LONGITUDE -123 18 45.000 *
NORTH_LATITUDE 40 30 0.000 *
SOUTH_LATITUDE 40 26 15.000 *
PRODUCTION_DATE 2001 6 26 *
RASTER_ORDER LEFT_RIGHT/TOP_BOTTOM *
BAND_ORGANIZATION "SINGLE FILE" *
BAND_CONTENT BLACK&WHITE *
BITS_PER_PIXEL 8 *
SAMPLES_AND_LINES 6022 7573 *
HORIZONTAL_DATUM NAD83 *
HORIZONTAL_COORDINATE_SYSTEM UTM *
COORDINATE_ZONE 10 *
HORIZONTAL_UNITS METERS *
HORIZONTAL_RESOLUTION 1.0 *
SECONDARY_HORIZONTAL_DATUM NAD27 *
XY_ORIGIN 467798.438 4483621.765 *
SECONDARY_XY_ORIGIN 467894.494 4483425.288 *
NATION US *
STATE CA *
NW_QUAD_CORNER_XY 468224.768 4483322.265 *
NE_QUAD_CORNER_XY 473520.649 4483301.629 *
SE_QUAD_CORNER_XY 473496.091 4476364.161 *
SW_QUAD_CORNER_XY 468195.298 4476384.789 *
SECONDARY_NW_QUAD_XY 468223.925 4483111.271 *
SECONDARY_NE_QUAD_XY 473519.947 4483090.635 *
SECONDARY_SE_QUAD_XY 473495.389 4476153.283 *
SECONDARY_SW_QUAD_XY 468194.455 4476173.912 *
RMSE_XY 1.10 *
IMAGE_SOURCE "BLACK AND WHITE FILM" *
SOURCE_IMAGE_ID "NAPP 10479 139" *
SOURCE_IMAGE_DATE 1998 8 13 *
SOURCE_IMAGE_ID "NAPP 10479 140" *
SOURCE_IMAGE_DATE 1998 8 13 *
SOURCE_IMAGE_ID "NAPP 10479 138" *
SOURCE_IMAGE_DATE 1998 8 13 *
SOURCE_IMAGE_ID "NAPP 10479 203" *
SOURCE_IMAGE_DATE 1998 8 13 *
SOURCE_IMAGE_ID "NAPP 10479 31" *
SOURCE_IMAGE_DATE 1998 8 13 *
SOURCE_IMAGE_ID "NAPP 10479 32" *
SOURCE_IMAGE_DATE 1998 8 13 *
SOURCE_IMAGE_ID "NAPP 10479 33" *
SOURCE_IMAGE_DATE 1998 8 13 *
SOURCE_DEM_DATE 2000 0 0 *
AGENCY "WESTERN MAPPING CENTER (WMC)" *
PRODUCER "USDA FS GEOSPATIAL SERVICE AND TECHNOLOGY CENTER" *
PRODUCTION_SYSTEM "ORBIT OR_RECTIFY V.5.2" *
STANDARD_VERSION 1996 12 *
METADATA_DATE 2001 6 29 *
DATA_FILE_SIZE 45610628 *
BYTE_COUNT 6022 * * * * * * * * * * * * * * * * * * * * *
END_USGS_HEADER *
