BEGIN_USGS_DOQ_HEADER *
QUADRANGLE_NAME "SPORTSHAVEN" 3.45 or 7.5-min. name*
QUADRANT SE quadrant indicator if cell size = 3.75-minutes*
WEST_LONGITUDE -123 26 15.000 signed deg min sec SDDD MM SS.SSS*
EAST_LONGITUDE -123 22 30.000 signed deg min sec SDDD MM SS.SSS*
NORTH_LATITUDE 40 26 15.000 signed deg min sec SDDD MM SS.SSS*
SOUTH_LATITUDE 40 22 30.000 signed deg min sec SDDD MM SS.SSS*
PRODUCTION_DATE 1996 4 12 yyyy mm dd*
RASTER_ORDER LEFT_RIGHT/TOP_BOTTOM video display order*
BAND_ORGANIZATION "SINGLE FILE" single file or BSQ, or BIL or BIP*
BAND_CONTENT BLACK&WHITE black&white or red green blue*
BITS_PER_PIXEL 8 radiometric resolution*
SAMPLES_AND_LINES 6042 7586 number of columns and rows*
HORIZONTAL_DATUM NAD83 primary horizontal datum*
HORIZONTAL_COORDINATE_SYSTEM UTM *
COORDINATE_ZONE 10 coordinate system zone number*
HORIZONTAL_UNITS METERS coordinate system units*
HORIZONTAL_RESOLUTION 1.00 pixel horiz. ground sample distance*
SECONDARY_HORIZONTAL_DATUM NAD27 secondary horizontal datum*
XY_ORIGIN 462458.500 4476713.500 coord. of upper left pixel pri. datum*
SECONDARY_XY_ORIGIN 462554.517 4476517.005 coord upper left pixel sec datum*
NATION US nation code*
STATE CA state fip code*
NW_QUAD_CORNER_XY 462894.499 4476409.167 XY coords. of pri. NW quad corner*
NE_QUAD_CORNER_XY 468195.298 4476384.789 XY coords. of pri. NE quad corner*
SE_QUAD_CORNER_XY 468165.865 4469447.387 XY coords. of pri. SE quad corner*
SW_QUAD_CORNER_XY 462860.161 4469471.757 XY coords. of pri. SW quad corner*
SECONDARY_NW_QUAD_XY 462893.513 4476198.290 XY coords. - sec. NW quad cor.*
SECONDARY_NE_QUAD_XY 468194.453 4476173.911 XY coords. - sec. NE quad cor.*
SECONDARY_SE_QUAD_XY 468165.022 4469236.628 XY coords. - sec. SE quad cor.*
SECONDARY_SW_QUAD_XY 462859.176 4469260.998 XY coords. - sec. SW quad cor.*
RMSE_XY 3.80 doq horiz. accuracy*
IMAGE_SOURCE "BLACK AND WHITE FILM" b&w, cir, natural color, other*
SOURCE_IMAGE_ID "PAPP 1251 080" source image id*
SOURCE_IMAGE_DATE 1993 6 24 source image date as yyyy mm dd*
IMAGE_SOURCE "BLACK AND WHITE FILM" b&w, cir, natural color, other*
SOURCE_IMAGE_ID "PAPP 1251 979" source image id*
SOURCE_IMAGE_DATE 1993 6 24 source image date as yyyy mm dd*
IMAGE_SOURCE "BLACK AND WHITE FILM" b&w, cir, natural color, other*
SOURCE_IMAGE_ID "PAPP 1251 181" source image id*
SOURCE_IMAGE_DATE 1993 6 24 source image date as yyyy mm dd*
SOURCE_DEM_DATE 1996 4 12 source dem date yyyy mm dd*
AGENCY "WESTERN MAPPING CENTER (WMC)" oversight agency*
PRODUCER "Woolpert Consultants" producer/contractor*
PRODUCTION_SYSTEM "INTERGRAPH ISPM,ISIR" production system*
STANDARD_VERSION 1996 12 version of DOQ standard*
METADATA_DATE 1997 5 27 date created or changed, yyyy mm dd*
DATA_FILE_SIZE 45840654 data set size in bytes*
BYTE_COUNT 6042 header byte count* * * * * * * * * * * * * * * * * * * * * * * * * * *
END_USGS_HEADER *
