BEGIN_USGS_DOQ_HEADER *
QUADRANGLE_NAME "HAYFORK" *
QUADRANT NE *
WEST_LONGITUDE -123 11 15.000 *
EAST_LONGITUDE -123 7 30.000 *
NORTH_LATITUDE 40 37 30.000 *
SOUTH_LATITUDE 40 33 45.000 *
PRODUCTION_DATE 2001 6 26 *
RASTER_ORDER LEFT_RIGHT/TOP_BOTTOM *
BAND_ORGANIZATION "SINGLE FILE" *
BAND_CONTENT BLACK&WHITE *
BITS_PER_PIXEL 8 *
SAMPLES_AND_LINES 5997 7562 *
HORIZONTAL_DATUM NAD83 *
HORIZONTAL_COORDINATE_SYSTEM UTM *
COORDINATE_ZONE 10 *
HORIZONTAL_UNITS METERS *
HORIZONTAL_RESOLUTION 1.0 *
SECONDARY_HORIZONTAL_DATUM NAD27 *
XY_ORIGIN 483731.131 4497446.757 *
SECONDARY_XY_ORIGIN 483827.247 4497250.253 *
NATION US *
STATE CA *
NW_QUAD_CORNER_XY 484141.924 4497146.757 *
NE_QUAD_CORNER_XY 489427.951 4497137.371 *
SE_QUAD_CORNER_XY 489418.103 4490199.765 *
SW_QUAD_CORNER_XY 484127.151 4490209.148 *
SECONDARY_NW_QUAD_XY 484141.503 4496935.532 *
SECONDARY_NE_QUAD_XY 489427.671 4496926.145 *
SECONDARY_SE_QUAD_XY 489417.822 4489988.655 *
SECONDARY_SW_QUAD_XY 484126.730 4489998.038 *
RMSE_XY 1.10 *
IMAGE_SOURCE "BLACK AND WHITE FILM" *
SOURCE_IMAGE_ID "NAPP 10481 102" *
SOURCE_IMAGE_DATE 1998 8 14 *
SOURCE_IMAGE_ID "NAPP 10481 101" *
SOURCE_IMAGE_DATE 1998 8 14 *
SOURCE_IMAGE_ID "NAPP 10481 103" *
SOURCE_IMAGE_DATE 1998 8 14 *
SOURCE_IMAGE_ID "NAPP 10481 56" *
SOURCE_IMAGE_DATE 1998 8 14 *
SOURCE_IMAGE_ID "NAPP 10481 55" *
SOURCE_IMAGE_DATE 1998 8 14 *
SOURCE_IMAGE_ID "NAPP 10481 54" *
SOURCE_IMAGE_DATE 1998 8 14 *
SOURCE_IMAGE_ID "NAPP 10481 35" *
SOURCE_IMAGE_DATE 1998 8 14 *
SOURCE_IMAGE_ID "NAPP 10481 36" *
SOURCE_IMAGE_DATE 1998 8 14 *
SOURCE_IMAGE_ID "NAPP 10481 37" *
SOURCE_IMAGE_DATE 1998 8 14 *
SOURCE_DEM_DATE 2000 0 0 *
AGENCY "WESTERN MAPPING CENTER (WMC)" *
PRODUCER "USDA FS GEOSPATIAL SERVICE AND TECHNOLOGY CENTER" *
PRODUCTION_SYSTEM "ORBIT OR_RECTIFY V.5.2" *
STANDARD_VERSION 1996 12 *
METADATA_DATE 2001 6 29 *
DATA_FILE_SIZE 45355311 *
BYTE_COUNT 5997 * * * * * * * * * * * * * * * *
END_USGS_HEADER *
