BEGIN_USGS_DOQ_HEADER *
QUADRANGLE_NAME "BLAKE MOUNTAIN" *
QUADRANT NE *
WEST_LONGITUDE -123 33 45.000 *
EAST_LONGITUDE -123 30 0.000 *
NORTH_LATITUDE 40 37 30.000 *
SOUTH_LATITUDE 40 33 45.000 *
PRODUCTION_DATE 2001 5 2 *
RASTER_ORDER LEFT_RIGHT/TOP_BOTTOM *
BAND_ORGANIZATION "SINGLE FILE" *
BAND_CONTENT BLACK&WHITE *
BITS_PER_PIXEL 8 *
SAMPLES_AND_LINES 6028 7584 *
HORIZONTAL_DATUM NAD83 *
HORIZONTAL_COORDINATE_SYSTEM UTM *
COORDINATE_ZONE 10 *
HORIZONTAL_UNITS METERS *
HORIZONTAL_RESOLUTION 1.0 *
SECONDARY_HORIZONTAL_DATUM NAD27 *
XY_ORIGIN 451983.976 4497581.917 *
SECONDARY_XY_ORIGIN 452080.143 4497385.338 *
NATION US *
STATE CA *
NW_QUAD_CORNER_XY 452425.668 4497281.917 *
NE_QUAD_CORNER_XY 457711.727 4497250.004 *
SE_QUAD_CORNER_XY 457672.331 4490312.360 *
SW_QUAD_CORNER_XY 452381.348 4490344.263 *
SECONDARY_NW_QUAD_XY 452424.402 4497070.696 *
SECONDARY_NE_QUAD_XY 457710.602 4497038.781 *
SECONDARY_SE_QUAD_XY 457671.207 4490101.253 *
SECONDARY_SW_QUAD_XY 452380.082 4490133.156 *
RMSE_XY 0.65 *
IMAGE_SOURCE "BLACK AND WHITE FILM" *
SOURCE_IMAGE_ID "NAPP 10480 50" *
SOURCE_IMAGE_DATE 1998 8 13 *
SOURCE_IMAGE_ID "NAPP 10480 51" *
SOURCE_IMAGE_DATE 1998 8 13 *
SOURCE_IMAGE_ID "NAPP 10480 49" *
SOURCE_IMAGE_DATE 1998 8 13 *
SOURCE_IMAGE_ID "NAPP 10477 35" *
SOURCE_IMAGE_DATE 1998 8 12 *
SOURCE_IMAGE_ID "NAPP 10477 36" *
SOURCE_IMAGE_DATE 1998 8 12 *
SOURCE_IMAGE_ID "NAPP 10477 37" *
SOURCE_IMAGE_DATE 1998 8 12 *
SOURCE_IMAGE_ID "NAPP 10480 245" *
SOURCE_IMAGE_DATE 1998 8 13 *
SOURCE_IMAGE_ID "NAPP 10480 244" *
SOURCE_IMAGE_DATE 1998 8 13 *
SOURCE_IMAGE_ID "NAPP 10480 243" *
SOURCE_IMAGE_DATE 1998 8 13 *
SOURCE_DEM_DATE 2000 0 0 *
AGENCY "WESTERN MAPPING CENTER (WMC)" *
PRODUCER "USDA FS GEOSPATIAL SERVICE AND TECHNOLOGY CENTER" *
PRODUCTION_SYSTEM "ORBIT OR_RECTIFY V.5.2" *
STANDARD_VERSION 1996 12 *
METADATA_DATE 2001 3 29 *
DATA_FILE_SIZE 45722380 *
BYTE_COUNT 6028 * * * * * * * * * * * * * * * * *
END_USGS_HEADER *
