BEGIN_USGS_DOQ_HEADER *
QUADRANGLE_NAME "BLAKE MOUNTAIN" *
QUADRANT SW *
WEST_LONGITUDE -123 37 30.000 *
EAST_LONGITUDE -123 33 45.000 *
NORTH_LATITUDE 40 33 45.000 *
SOUTH_LATITUDE 40 30 0.000 *
PRODUCTION_DATE 2001 5 2 *
RASTER_ORDER LEFT_RIGHT/TOP_BOTTOM *
BAND_ORGANIZATION "SINGLE FILE" *
BAND_CONTENT BLACK&WHITE *
BITS_PER_PIXEL 8 *
SAMPLES_AND_LINES 6038 7588 *
HORIZONTAL_DATUM NAD83 *
HORIZONTAL_COORDINATE_SYSTEM UTM *
COORDINATE_ZONE 10 *
HORIZONTAL_UNITS METERS *
HORIZONTAL_RESOLUTION 1.0 *
SECONDARY_HORIZONTAL_DATUM NAD27 *
XY_ORIGIN 446643.729 4490679.919 *
SECONDARY_XY_ORIGIN 446739.859 4490483.352 *
NATION US *
STATE CA *
NW_QUAD_CORNER_XY 447090.355 4490379.919 *
NE_QUAD_CORNER_XY 452381.348 4490344.263 *
SE_QUAD_CORNER_XY 452337.084 4483406.682 *
SW_QUAD_CORNER_XY 447041.173 4483442.326 *
SECONDARY_NW_QUAD_XY 447088.948 4490168.813 *
SECONDARY_NE_QUAD_XY 452380.082 4490133.156 *
SECONDARY_SE_QUAD_XY 452335.819 4483195.692 *
SECONDARY_SW_QUAD_XY 447039.767 4483231.336 *
RMSE_XY 0.65 *
IMAGE_SOURCE "BLACK AND WHITE FILM" *
SOURCE_IMAGE_ID "NAPP 10477 34" *
SOURCE_IMAGE_DATE 1998 8 12 *
SOURCE_IMAGE_ID "NAPP 10477 33" *
SOURCE_IMAGE_DATE 1998 8 12 *
SOURCE_IMAGE_ID "NAPP 10477 35" *
SOURCE_IMAGE_DATE 1998 8 12 *
SOURCE_IMAGE_ID "NAPP 10480 74" *
SOURCE_IMAGE_DATE 1998 8 13 *
SOURCE_IMAGE_ID "NAPP 10480 75" *
SOURCE_IMAGE_DATE 1998 8 13 *
SOURCE_IMAGE_ID "NAPP 10480 76" *
SOURCE_IMAGE_DATE 1998 8 13 *
SOURCE_IMAGE_ID "NAPP 10480 53" *
SOURCE_IMAGE_DATE 1998 8 13 *
SOURCE_IMAGE_ID "NAPP 10480 52" *
SOURCE_IMAGE_DATE 1998 8 13 *
SOURCE_IMAGE_ID "NAPP 10480 51" *
SOURCE_IMAGE_DATE 1998 8 13 *
SOURCE_DEM_DATE 2000 0 0 *
AGENCY "WESTERN MAPPING CENTER (WMC)" *
PRODUCER "USDA FS GEOSPATIAL SERVICE AND TECHNOLOGY CENTER" *
PRODUCTION_SYSTEM "ORBIT OR_RECTIFY V.5.2" *
STANDARD_VERSION 1996 12 *
METADATA_DATE 2001 3 29 *
DATA_FILE_SIZE 45822382 *
BYTE_COUNT 6038 * * * * * * * * * * * * * * * * *
END_USGS_HEADER *
