BEGIN_USGS_DOQ_HEADER *
QUADRANGLE_NAME "SHOWERS MOUNTAIN" *
QUADRANT SE *
WEST_LONGITUDE -123 41 15.000 *
EAST_LONGITUDE -123 37 30.000 *
NORTH_LATITUDE 40 33 45.000 *
SOUTH_LATITUDE 40 30 0.000 *
PRODUCTION_DATE 2001 5 2 *
RASTER_ORDER LEFT_RIGHT/TOP_BOTTOM *
BAND_ORGANIZATION "SINGLE FILE" *
BAND_CONTENT BLACK&WHITE *
BITS_PER_PIXEL 8 *
SAMPLES_AND_LINES 6043 7591 *
HORIZONTAL_DATUM NAD83 *
HORIZONTAL_COORDINATE_SYSTEM UTM *
COORDINATE_ZONE 10 *
HORIZONTAL_UNITS METERS *
HORIZONTAL_RESOLUTION 1.0 *
SECONDARY_HORIZONTAL_DATUM NAD27 *
XY_ORIGIN 441348.178 4490718.828 *
SECONDARY_XY_ORIGIN 441444.328 4490522.261 *
NATION US *
STATE CA *
NW_QUAD_CORNER_XY 441799.353 4490419.328 *
NE_QUAD_CORNER_XY 447090.355 4490379.919 *
SE_QUAD_CORNER_XY 447041.173 4483442.326 *
SW_QUAD_CORNER_XY 441745.252 4483481.722 *
SECONDARY_NW_QUAD_XY 441797.805 4490208.224 *
SECONDARY_NE_QUAD_XY 447088.948 4490168.813 *
SECONDARY_SE_QUAD_XY 447039.767 4483231.336 *
SECONDARY_SW_QUAD_XY 441743.705 4483270.734 *
RMSE_XY 0.65 *
IMAGE_SOURCE "BLACK AND WHITE FILM" *
SOURCE_IMAGE_ID "NAPP 10480 75" *
SOURCE_IMAGE_DATE 1998 8 13 *
SOURCE_IMAGE_ID "NAPP 10480 74" *
SOURCE_IMAGE_DATE 1998 8 13 *
SOURCE_IMAGE_ID "NAPP 10480 76" *
SOURCE_IMAGE_DATE 1998 8 13 *
SOURCE_IMAGE_ID "NAPP 10477 135" *
SOURCE_IMAGE_DATE 1998 8 12 *
SOURCE_IMAGE_ID "NAPP 10477 134" *
SOURCE_IMAGE_DATE 1998 8 12 *
SOURCE_IMAGE_ID "NAPP 10477 133" *
SOURCE_IMAGE_DATE 1998 8 12 *
SOURCE_IMAGE_ID "NAPP 10477 33" *
SOURCE_IMAGE_DATE 1998 8 12 *
SOURCE_IMAGE_ID "NAPP 10477 34" *
SOURCE_IMAGE_DATE 1998 8 12 *
SOURCE_IMAGE_ID "NAPP 10477 35" *
SOURCE_IMAGE_DATE 1998 8 12 *
SOURCE_DEM_DATE 2000 0 0 *
AGENCY "WESTERN MAPPING CENTER (WMC)" *
PRODUCER "USDA FS GEOSPATIAL SERVICE AND TECHNOLOGY CENTER" *
PRODUCTION_SYSTEM "ORBIT OR_RECTIFY V.5.2" *
STANDARD_VERSION 1996 12 *
METADATA_DATE 2001 3 29 *
DATA_FILE_SIZE 45878456 *
BYTE_COUNT 6043 * * * * * * * * * * * * * * * * *
END_USGS_HEADER *
