BEGIN_USGS_DOQ_HEADER *
QUADRANGLE_NAME "HYAMPOM MOUNTAIN" *
QUADRANT NE *
WEST_LONGITUDE -123 26 15.000 *
EAST_LONGITUDE -123 22 30.000 *
NORTH_LATITUDE 40 45 0.000 *
SOUTH_LATITUDE 40 41 15.000 *
PRODUCTION_DATE 2001 6 26 *
RASTER_ORDER LEFT_RIGHT/TOP_BOTTOM *
BAND_ORGANIZATION "SINGLE FILE" *
BAND_CONTENT BLACK&WHITE *
BITS_PER_PIXEL 8 *
SAMPLES_AND_LINES 6008 7577 *
HORIZONTAL_DATUM NAD83 *
HORIZONTAL_COORDINATE_SYSTEM UTM *
COORDINATE_ZONE 10 *
HORIZONTAL_UNITS METERS *
HORIZONTAL_RESOLUTION 1.0 *
SECONDARY_HORIZONTAL_DATUM NAD27 *
XY_ORIGIN 462635.176 4511396.839 *
SECONDARY_XY_ORIGIN 462731.336 4511200.246 *
NATION US *
STATE CA *
NW_QUAD_CORNER_XY 463066.852 4511097.339 *
NE_QUAD_CORNER_XY 468343.028 4511072.918 *
SE_QUAD_CORNER_XY 468313.406 4504135.142 *
SW_QUAD_CORNER_XY 463032.293 4504159.555 *
SECONDARY_NW_QUAD_XY 463065.866 4510885.888 *
SECONDARY_NE_QUAD_XY 468342.184 4510861.467 *
SECONDARY_SE_QUAD_XY 468312.562 4503923.804 *
SECONDARY_SW_QUAD_XY 463031.308 4503948.217 *
RMSE_XY 1.10 *
IMAGE_SOURCE "BLACK AND WHITE FILM" *
SOURCE_IMAGE_ID "NAPP 10479 210" *
SOURCE_IMAGE_DATE 1998 8 13 *
SOURCE_IMAGE_ID "NAPP 10479 209" *
SOURCE_IMAGE_DATE 1998 8 13 *
SOURCE_IMAGE_ID "NAPP 10479 211" *
SOURCE_IMAGE_DATE 1998 8 13 *
SOURCE_IMAGE_ID "NAPP 10480 237" *
SOURCE_IMAGE_DATE 1998 8 13 *
SOURCE_IMAGE_ID "NAPP 10480 236" *
SOURCE_IMAGE_DATE 1998 8 13 *
SOURCE_IMAGE_ID "NAPP 10480 235" *
SOURCE_IMAGE_DATE 1998 8 13 *
SOURCE_IMAGE_ID "NAPP 10479 132" *
SOURCE_IMAGE_DATE 1998 8 13 *
SOURCE_IMAGE_ID "NAPP 10479 131" *
SOURCE_IMAGE_DATE 1998 8 13 *
SOURCE_IMAGE_ID "NAPP 10479 130" *
SOURCE_IMAGE_DATE 1998 8 13 *
SOURCE_DEM_DATE 2000 0 0 *
AGENCY "WESTERN MAPPING CENTER (WMC)" *
PRODUCER "USDA FS GEOSPATIAL SERVICE AND TECHNOLOGY CENTER" *
PRODUCTION_SYSTEM "ORBIT OR_RECTIFY V.5.2" *
STANDARD_VERSION 1996 12 *
METADATA_DATE 2001 6 29 *
DATA_FILE_SIZE 45528624 *
BYTE_COUNT 6008 * * * * * * * * * * * * * * * * *
END_USGS_HEADER *
