BEGIN_USGS_DOQ_HEADER *
QUADRANGLE_NAME "BOARD CAMP MOUNTAIN" *
QUADRANT SE *
WEST_LONGITUDE -123 41 15.000 *
EAST_LONGITUDE -123 37 30.000 *
NORTH_LATITUDE 40 41 15.000 *
SOUTH_LATITUDE 40 37 30.000 *
PRODUCTION_DATE 2001 5 2 *
RASTER_ORDER LEFT_RIGHT/TOP_BOTTOM *
BAND_ORGANIZATION "SINGLE FILE" *
BAND_CONTENT BLACK&WHITE *
BITS_PER_PIXEL 8 *
SAMPLES_AND_LINES 6033 7592 *
HORIZONTAL_DATUM NAD83 *
HORIZONTAL_COORDINATE_SYSTEM UTM *
COORDINATE_ZONE 10 *
HORIZONTAL_UNITS METERS *
HORIZONTAL_RESOLUTION 1.0 *
SECONDARY_HORIZONTAL_DATUM NAD27 *
XY_ORIGIN 441456.215 4504594.763 *
SECONDARY_XY_ORIGIN 441552.600 4504398.155 *
NATION US *
STATE CA *
NW_QUAD_CORNER_XY 441907.762 4504294.763 *
NE_QUAD_CORNER_XY 447188.908 4504255.327 *
SE_QUAD_CORNER_XY 447139.600 4497317.586 *
SW_QUAD_CORNER_XY 441853.523 4497357.009 *
SECONDARY_NW_QUAD_XY 441906.214 4504083.429 *
SECONDARY_NE_QUAD_XY 447187.501 4504043.992 *
SECONDARY_SE_QUAD_XY 447138.193 4497106.365 *
SECONDARY_SW_QUAD_XY 441851.975 4497145.789 *
RMSE_XY 0.65 *
IMAGE_SOURCE "BLACK AND WHITE FILM" *
SOURCE_IMAGE_ID "NAPP 10480 79" *
SOURCE_IMAGE_DATE 1998 8 13 *
SOURCE_IMAGE_ID "NAPP 10480 78" *
SOURCE_IMAGE_DATE 1998 8 13 *
SOURCE_IMAGE_ID "NAPP 10480 80" *
SOURCE_IMAGE_DATE 1998 8 13 *
SOURCE_IMAGE_ID "NAPP 10477 131" *
SOURCE_IMAGE_DATE 1998 8 12 *
SOURCE_IMAGE_ID "NAPP 10477 130" *
SOURCE_IMAGE_DATE 1998 8 12 *
SOURCE_IMAGE_ID "NAPP 10477 129" *
SOURCE_IMAGE_DATE 1998 8 12 *
SOURCE_IMAGE_ID "NAPP 10477 37" *
SOURCE_IMAGE_DATE 1998 8 12 *
SOURCE_IMAGE_ID "NAPP 10477 38" *
SOURCE_IMAGE_DATE 1998 8 12 *
SOURCE_IMAGE_ID "NAPP 10477 39" *
SOURCE_IMAGE_DATE 1998 8 12 *
SOURCE_DEM_DATE 2000 0 0 *
AGENCY "WESTERN MAPPING CENTER (WMC)" *
PRODUCER "USDA FS GEOSPATIAL SERVICE AND TECHNOLOGY CENTER" *
PRODUCTION_SYSTEM "ORBIT OR_RECTIFY V.5.2" *
STANDARD_VERSION 1996 12 *
METADATA_DATE 2001 3 29 *
DATA_FILE_SIZE 45808569 *
BYTE_COUNT 6033 * * * * * * * * * * * * * * * * *
END_USGS_HEADER *
