BEGIN_USGS_DOQ_HEADER *
QUADRANGLE_NAME "MAD RIVER BUTTES" *
QUADRANT NE *
WEST_LONGITUDE -123 48 45.000 *
EAST_LONGITUDE -123 45 0.000 *
NORTH_LATITUDE 40 45 0.000 *
SOUTH_LATITUDE 40 41 15.000 *
PRODUCTION_DATE 2001 5 2 *
RASTER_ORDER LEFT_RIGHT/TOP_BOTTOM *
BAND_ORGANIZATION "SINGLE FILE" *
BAND_CONTENT BLACK&WHITE *
BITS_PER_PIXEL 8 *
SAMPLES_AND_LINES 6039 7600 *
HORIZONTAL_DATUM NAD83 *
HORIZONTAL_COORDINATE_SYSTEM UTM *
COORDINATE_ZONE 10 *
HORIZONTAL_UNITS METERS *
HORIZONTAL_RESOLUTION 1.0 *
SECONDARY_HORIZONTAL_DATUM NAD27 *
XY_ORIGIN 430947.695 4511622.764 *
SECONDARY_XY_ORIGIN 431044.243 4511426.215 *
NATION US *
STATE CA *
NW_QUAD_CORNER_XY 431409.623 4511322.764 *
NE_QUAD_CORNER_XY 436685.853 4511275.799 *
SE_QUAD_CORNER_XY 436626.606 4504337.956 *
SW_QUAD_CORNER_XY 431345.438 4504384.905 *
SECONDARY_NW_QUAD_XY 431407.789 4511111.321 *
SECONDARY_NE_QUAD_XY 436684.160 4511064.355 *
SECONDARY_SE_QUAD_XY 436624.914 4504126.625 *
SECONDARY_SW_QUAD_XY 431343.605 4504173.575 *
RMSE_XY 0.65 *
IMAGE_SOURCE "BLACK AND WHITE FILM" *
SOURCE_IMAGE_ID "NAPP 10478 20" *
SOURCE_IMAGE_DATE 1998 8 12 *
SOURCE_IMAGE_ID "NAPP 10478 19" *
SOURCE_IMAGE_DATE 1998 8 12 *
SOURCE_IMAGE_ID "NAPP 10478 21" *
SOURCE_IMAGE_DATE 1998 8 12 *
SOURCE_IMAGE_ID "NAPP 10478 164" *
SOURCE_IMAGE_DATE 1998 8 12 *
SOURCE_IMAGE_ID "NAPP 10478 165" *
SOURCE_IMAGE_DATE 1998 8 12 *
SOURCE_IMAGE_ID "NAPP 10478 166" *
SOURCE_IMAGE_DATE 1998 8 12 *
SOURCE_IMAGE_ID "NAPP 10477 129" *
SOURCE_IMAGE_DATE 1998 8 12 *
SOURCE_IMAGE_ID "NAPP 10477 128" *
SOURCE_IMAGE_DATE 1998 8 12 *
SOURCE_IMAGE_ID "NAPP 10477 127" *
SOURCE_IMAGE_DATE 1998 8 12 *
SOURCE_DEM_DATE 2000 0 0 *
AGENCY "WESTERN MAPPING CENTER (WMC)" *
PRODUCER "USDA FS GEOSPATIAL SERVICE AND TECHNOLOGY CENTER" *
PRODUCTION_SYSTEM "ORBIT OR_RECTIFY V.5.2" *
STANDARD_VERSION 1996 12 *
METADATA_DATE 2001 3 29 *
DATA_FILE_SIZE 45902439 *
BYTE_COUNT 6039 * * * * * * * * * * * * * * * * *
END_USGS_HEADER *
