BEGIN_USGS_DOQ_HEADER *
QUADRANGLE_NAME "DEDRICK" *
QUADRANT SW *
WEST_LONGITUDE -123 7 30.000 *
EAST_LONGITUDE -123 3 45.000 *
NORTH_LATITUDE 40 48 45.000 *
SOUTH_LATITUDE 40 45 0.000 *
PRODUCTION_DATE 2001 7 23 *
RASTER_ORDER LEFT_RIGHT/TOP_BOTTOM *
BAND_ORGANIZATION "SINGLE FILE" *
BAND_CONTENT BLACK&WHITE *
BITS_PER_PIXEL 8 *
SAMPLES_AND_LINES 5978 7558 *
HORIZONTAL_DATUM NAD83 *
HORIZONTAL_COORDINATE_SYSTEM UTM *
COORDINATE_ZONE 10 *
HORIZONTAL_UNITS METERS *
HORIZONTAL_RESOLUTION 1.0 *
SECONDARY_HORIZONTAL_DATUM NAD27 *
XY_ORIGIN 489051.246 4518250.639 *
SECONDARY_XY_ORIGIN 489147.461 4518054.031 *
NATION US *
STATE CA *
NW_QUAD_CORNER_XY 489457.573 4517950.639 *
NE_QUAD_CORNER_XY 494728.787 4517945.002 *
SE_QUAD_CORNER_XY 494723.844 4511007.172 *
SW_QUAD_CORNER_XY 489447.686 4511012.808 *
SECONDARY_NW_QUAD_XY 489457.292 4517739.073 *
SECONDARY_NE_QUAD_XY 494728.648 4517733.436 *
SECONDARY_SE_QUAD_XY 494723.704 4510795.719 *
SECONDARY_SW_QUAD_XY 489447.406 4510801.354 *
RMSE_XY 2.58 *
IMAGE_SOURCE "BLACK AND WHITE FILM" *
SOURCE_IMAGE_ID "NAPP 10481 42" *
SOURCE_IMAGE_DATE 1998 8 14 *
SOURCE_IMAGE_ID "NAPP 10481 41" *
SOURCE_IMAGE_DATE 1998 8 14 *
SOURCE_IMAGE_ID "NAPP 10481 43" *
SOURCE_IMAGE_DATE 1998 8 14 *
SOURCE_IMAGE_ID "NAPP 10481 107" *
SOURCE_IMAGE_DATE 1998 8 14 *
SOURCE_IMAGE_ID "NAPP 10481 108" *
SOURCE_IMAGE_DATE 1998 8 14 *
SOURCE_IMAGE_ID "NAPP 10481 109" *
SOURCE_IMAGE_DATE 1998 8 14 *
SOURCE_IMAGE_ID "NAPP 10486 152" *
SOURCE_IMAGE_DATE 1998 8 24 *
SOURCE_IMAGE_ID "NAPP 10486 153" *
SOURCE_IMAGE_DATE 1998 8 24 *
SOURCE_IMAGE_ID "NAPP 10486 154" *
SOURCE_IMAGE_DATE 1998 8 24 *
SOURCE_DEM_DATE 2000 0 0 *
AGENCY "WESTERN MAPPING CENTER (WMC)" *
PRODUCER "USDA FS GEOSPATIAL SERVICE AND TECHNOLOGY CENTER" *
PRODUCTION_SYSTEM "ORBIT OR_RECTIFY V.5.2" *
STANDARD_VERSION 1996 12 *
METADATA_DATE 2001 7 24 *
DATA_FILE_SIZE 45187702 *
BYTE_COUNT 5978 * * * * * * * * * * * * * * * *
END_USGS_HEADER *
