BEGIN_USGS_DOQ_HEADER *
QUADRANGLE_NAME "IRONSIDE MOUNTAIN" *
QUADRANT NE *
WEST_LONGITUDE -123 26 15.000 *
EAST_LONGITUDE -123 22 30.000 *
NORTH_LATITUDE 40 52 30.000 *
SOUTH_LATITUDE 40 48 45.000 *
PRODUCTION_DATE 2001 7 19 *
RASTER_ORDER LEFT_RIGHT/TOP_BOTTOM *
BAND_ORGANIZATION "SINGLE FILE" *
BAND_CONTENT BLACK&WHITE *
BITS_PER_PIXEL 8 *
SAMPLES_AND_LINES 5998 7577 *
HORIZONTAL_DATUM NAD83 *
HORIZONTAL_COORDINATE_SYSTEM UTM *
COORDINATE_ZONE 10 *
HORIZONTAL_UNITS METERS *
HORIZONTAL_RESOLUTION 1.0 *
SECONDARY_HORIZONTAL_DATUM NAD27 *
XY_ORIGIN 462704.211 4525272.632 *
SECONDARY_XY_ORIGIN 462800.577 4525076.118 *
NATION US *
STATE CA *
NW_QUAD_CORNER_XY 463136.103 4524973.132 *
NE_QUAD_CORNER_XY 468402.386 4524948.695 *
SE_QUAD_CORNER_XY 468372.688 4518010.769 *
SW_QUAD_CORNER_XY 463101.455 4518035.198 *
SECONDARY_NW_QUAD_XY 463135.116 4524761.457 *
SECONDARY_NE_QUAD_XY 468401.540 4524737.020 *
SECONDARY_SE_QUAD_XY 468371.843 4517799.205 *
SECONDARY_SW_QUAD_XY 463100.469 4517823.634 *
RMSE_XY 4.23 *
IMAGE_SOURCE "BLACK AND WHITE FILM" *
SOURCE_IMAGE_ID "NAPP 10479 214" *
SOURCE_IMAGE_DATE 1998 8 13 *
SOURCE_IMAGE_ID "NAPP 10479 213" *
SOURCE_IMAGE_DATE 1998 8 13 *
SOURCE_IMAGE_ID "NAPP 10479 215" *
SOURCE_IMAGE_DATE 1998 8 13 *
SOURCE_IMAGE_ID "NAPP 10480 233" *
SOURCE_IMAGE_DATE 1998 8 13 *
SOURCE_IMAGE_ID "NAPP 10480 232" *
SOURCE_IMAGE_DATE 1998 8 13 *
SOURCE_IMAGE_ID "NAPP 10480 231" *
SOURCE_IMAGE_DATE 1998 8 13 *
SOURCE_IMAGE_ID "NAPP 10479 128" *
SOURCE_IMAGE_DATE 1998 8 13 *
SOURCE_IMAGE_ID "NAPP 10479 127" *
SOURCE_IMAGE_DATE 1998 8 13 *
SOURCE_IMAGE_ID "NAPP 10479 126" *
SOURCE_IMAGE_DATE 1998 8 13 *
SOURCE_DEM_DATE 2000 0 0 *
AGENCY "WESTERN MAPPING CENTER (WMC)" *
PRODUCER "USDA FS GEOSPATIAL SERVICE AND TECHNOLOGY CENTER" *
PRODUCTION_SYSTEM "ORBIT OR_RECTIFY V.5.2" *
STANDARD_VERSION 1996 12 *
METADATA_DATE 2001 7 24 *
DATA_FILE_SIZE 45452844 *
BYTE_COUNT 5998 * * * * * * * * * * * * * * * *
END_USGS_HEADER *
