BEGIN_USGS_DOQ_HEADER *
QUADRANGLE_NAME "IRONSIDE MOUNTAIN" 3.45 or 7.5-min. name*
QUADRANT SW quadrant indicator if cell size = 3.75-minutes*
WEST_LONGITUDE -123 30 0.000 signed deg min sec SDDD MM SS.SSS*
EAST_LONGITUDE -123 26 15.000 signed deg min sec SDDD MM SS.SSS*
NORTH_LATITUDE 40 48 45.000 signed deg min sec SDDD MM SS.SSS*
SOUTH_LATITUDE 40 45 0.000 signed deg min sec SDDD MM SS.SSS*
PRODUCTION_DATE 1996 4 3 yyyy mm dd*
RASTER_ORDER LEFT_RIGHT/TOP_BOTTOM video display order*
BAND_ORGANIZATION "SINGLE FILE" single file or BSQ, or BIL or BIP*
BAND_CONTENT BLACK&WHITE black&white or red green blue*
BITS_PER_PIXEL 8 radiometric resolution*
SAMPLES_AND_LINES 6018 7591 number of columns and rows*
HORIZONTAL_DATUM NAD83 primary horizontal datum*
HORIZONTAL_COORDINATE_SYSTEM UTM *
COORDINATE_ZONE 10 coordinate system zone number*
HORIZONTAL_UNITS METERS coordinate system units*
HORIZONTAL_RESOLUTION 1.00 pixel horiz. ground sample distance*
SECONDARY_HORIZONTAL_DATUM NAD27 secondary horizontal datum*
XY_ORIGIN 457388.500 4518367.500 coord. of upper left pixel pri. datum*
SECONDARY_XY_ORIGIN 457484.780 4518170.960 coord upper left pixel sec datum*
NATION US nation code*
STATE CA state fip code*
NW_QUAD_CORNER_XY 457830.220 4518063.380 XY coords. of pri. NW quad corner*
NE_QUAD_CORNER_XY 463101.460 4518035.200 XY coords. of pri. NE quad corner*
SE_QUAD_CORNER_XY 463066.850 4511097.340 XY coords. of pri. SE quad corner*
SW_QUAD_CORNER_XY 457790.670 4511125.520 XY coords. of pri. SW quad corner*
SECONDARY_NW_QUAD_XY 457829.090 4517851.820 XY coords. - sec. NW quad cor.*
SECONDARY_NE_QUAD_XY 463100.470 4517823.630 XY coords. - sec. NE quad cor.*
SECONDARY_SE_QUAD_XY 463065.860 4510885.880 XY coords. - sec. SE quad cor.*
SECONDARY_SW_QUAD_XY 457789.540 4510914.060 XY coords. - sec. SW quad cor.*
RMSE_XY 4.60 doq horiz. accuracy*
IMAGE_SOURCE "BLACK AND WHITE FILM" b&w, cir, natural color, other*
SOURCE_IMAGE_ID "NAPP 6250 259" source image id*
SOURCE_IMAGE_DATE 1993 6 24 source image date as yyyy mm dd*
IMAGE_SOURCE "BLACK AND WHITE FILM" b&w, cir, natural color, other*
SOURCE_IMAGE_ID "NAPP 6250 258" source image id*
SOURCE_IMAGE_DATE 1993 6 24 source image date as yyyy mm dd*
IMAGE_SOURCE "BLACK AND WHITE FILM" b&w, cir, natural color, other*
SOURCE_IMAGE_ID "NAPP 6250 260" source image id*
SOURCE_IMAGE_DATE 1993 6 24 source image date as yyyy mm dd*
SOURCE_DEM_DATE 1996 4 3 source dem date yyyy mm dd*
AGENCY "WESTERN MAPPING CENTER (WMC)" oversight agency*
PRODUCER "Woolpert Consultants" producer/contractor*
PRODUCTION_SYSTEM "INTERGRAPH ISPM,ISIR" production system*
STANDARD_VERSION 1996 12 version of DOQ standard*
METADATA_DATE 1997 7 11 date created or changed, yyyy mm dd*
DATA_FILE_SIZE 45688656 data set size in bytes*
BYTE_COUNT 6018 header byte count* * * * * * * * * * * * * * * * * * * * * * * * * * *
END_USGS_HEADER *
