BEGIN_USGS_DOQ_HEADER *
QUADRANGLE_NAME "HENNESSY PEAK" *
QUADRANT NE *
WEST_LONGITUDE -123 33 45.000 *
EAST_LONGITUDE -123 30 0.000 *
NORTH_LATITUDE 40 52 30.000 *
SOUTH_LATITUDE 40 48 45.000 *
PRODUCTION_DATE 2001 5 2 *
RASTER_ORDER LEFT_RIGHT/TOP_BOTTOM *
BAND_ORGANIZATION "SINGLE FILE" *
BAND_CONTENT BLACK&WHITE *
BITS_PER_PIXEL 8 *
SAMPLES_AND_LINES 6008 7585 *
HORIZONTAL_DATUM NAD83 *
HORIZONTAL_COORDINATE_SYSTEM UTM *
COORDINATE_ZONE 10 *
HORIZONTAL_UNITS METERS *
HORIZONTAL_RESOLUTION 1.0 *
SECONDARY_HORIZONTAL_DATUM NAD27 *
XY_ORIGIN 452161.337 4525332.783 *
SECONDARY_XY_ORIGIN 452257.806 4525136.296 *
NATION US *
STATE CA *
NW_QUAD_CORNER_XY 452603.517 4525033.283 *
NE_QUAD_CORNER_XY 457869.813 4525001.327 *
SE_QUAD_CORNER_XY 457830.216 4518063.384 *
SW_QUAD_CORNER_XY 452558.969 4518095.329 *
SECONDARY_NW_QUAD_XY 452602.248 4524821.609 *
SECONDARY_NE_QUAD_XY 457868.686 4524789.653 *
SECONDARY_SE_QUAD_XY 457829.090 4517851.821 *
SECONDARY_SW_QUAD_XY 452557.702 4517883.767 *
RMSE_XY 0.65 *
IMAGE_SOURCE "BLACK AND WHITE FILM" *
SOURCE_IMAGE_ID "NAPP 10480 42" *
SOURCE_IMAGE_DATE 1998 8 13 *
SOURCE_IMAGE_ID "NAPP 10480 43" *
SOURCE_IMAGE_DATE 1998 8 13 *
SOURCE_IMAGE_ID "NAPP 10480 41" *
SOURCE_IMAGE_DATE 1998 8 13 *
SOURCE_IMAGE_ID "NAPP 10477 43" *
SOURCE_IMAGE_DATE 1998 8 12 *
SOURCE_IMAGE_ID "NAPP 10477 44" *
SOURCE_IMAGE_DATE 1998 8 12 *
SOURCE_IMAGE_ID "NAPP 10477 45" *
SOURCE_IMAGE_DATE 1998 8 12 *
SOURCE_DEM_DATE 1979 1 1 *
AGENCY "WESTERN MAPPING CENTER (WMC)" *
PRODUCER "USDA FS GEOSPATIAL SERVICE AND TECHNOLOGY CENTER" *
PRODUCTION_SYSTEM "ORBIT OR_RECTIFY V.5.2" *
STANDARD_VERSION 1996 12 *
METADATA_DATE 2001 3 29 *
DATA_FILE_SIZE 45576688 *
BYTE_COUNT 6008 * * * * * * * * * * * * * * * * * * * * * * *
END_USGS_HEADER *
