BEGIN_USGS_DOQ_HEADER *
QUADRANGLE_NAME "GROUSE MOUNTAIN" *
QUADRANT SE *
WEST_LONGITUDE -123 41 15.000 *
EAST_LONGITUDE -123 37 30.000 *
NORTH_LATITUDE 40 48 45.000 *
SOUTH_LATITUDE 40 45 0.000 *
PRODUCTION_DATE 2001 5 2 *
RASTER_ORDER LEFT_RIGHT/TOP_BOTTOM *
BAND_ORGANIZATION "SINGLE FILE" *
BAND_CONTENT BLACK&WHITE *
BITS_PER_PIXEL 8 *
SAMPLES_AND_LINES 6024 7592 *
HORIZONTAL_DATUM NAD83 *
HORIZONTAL_COORDINATE_SYSTEM UTM *
COORDINATE_ZONE 10 *
HORIZONTAL_UNITS METERS *
HORIZONTAL_RESOLUTION 1.0 *
SECONDARY_HORIZONTAL_DATUM NAD27 *
XY_ORIGIN 441564.033 4518470.496 *
SECONDARY_XY_ORIGIN 441660.599 4518273.946 *
NATION US *
STATE CA *
NW_QUAD_CORNER_XY 442016.450 4518170.496 *
NE_QUAD_CORNER_XY 447287.714 4518131.033 *
SE_QUAD_CORNER_XY 447238.280 4511193.143 *
SW_QUAD_CORNER_XY 441962.072 4511232.592 *
SECONDARY_NW_QUAD_XY 442014.900 4517958.935 *
SECONDARY_NE_QUAD_XY 447286.306 4517919.472 *
SECONDARY_SE_QUAD_XY 447236.872 4510981.694 *
SECONDARY_SW_QUAD_XY 441960.523 4511021.145 *
RMSE_XY 0.65 *
IMAGE_SOURCE "BLACK AND WHITE FILM" *
SOURCE_IMAGE_ID "NAPP 10480 83" *
SOURCE_IMAGE_DATE 1998 8 13 *
SOURCE_IMAGE_ID "NAPP 10480 82" *
SOURCE_IMAGE_DATE 1998 8 13 *
SOURCE_IMAGE_ID "NAPP 10480 84" *
SOURCE_IMAGE_DATE 1998 8 13 *
SOURCE_IMAGE_ID "NAPP 10477 127" *
SOURCE_IMAGE_DATE 1998 8 12 *
SOURCE_IMAGE_ID "NAPP 10477 126" *
SOURCE_IMAGE_DATE 1998 8 12 *
SOURCE_IMAGE_ID "NAPP 10477 125" *
SOURCE_IMAGE_DATE 1998 8 12 *
SOURCE_IMAGE_ID "NAPP 10477 41" *
SOURCE_IMAGE_DATE 1998 8 12 *
SOURCE_IMAGE_ID "NAPP 10477 42" *
SOURCE_IMAGE_DATE 1998 8 12 *
SOURCE_IMAGE_ID "NAPP 10477 43" *
SOURCE_IMAGE_DATE 1998 8 12 *
SOURCE_DEM_DATE 1979 1 1 *
AGENCY "WESTERN MAPPING CENTER (WMC)" *
PRODUCER "USDA FS GEOSPATIAL SERVICE AND TECHNOLOGY CENTER" *
PRODUCTION_SYSTEM "ORBIT OR_RECTIFY V.5.2" *
STANDARD_VERSION 1996 12 *
METADATA_DATE 2001 3 29 *
DATA_FILE_SIZE 45740232 *
BYTE_COUNT 6024 * * * * * * * * * * * * * * * * *
END_USGS_HEADER *
