BEGIN_USGS_DOQ_HEADER *
QUADRANGLE_NAME "MAPLE CREEK" *
QUADRANT SE *
WEST_LONGITUDE -123 48 45.000 *
EAST_LONGITUDE -123 45 0.000 *
NORTH_LATITUDE 40 48 45.000 *
SOUTH_LATITUDE 40 45 0.000 *
PRODUCTION_DATE 2001 5 2 *
RASTER_ORDER LEFT_RIGHT/TOP_BOTTOM *
BAND_ORGANIZATION "SINGLE FILE" *
BAND_CONTENT BLACK&WHITE *
BITS_PER_PIXEL 8 *
SAMPLES_AND_LINES 6034 7600 *
HORIZONTAL_DATUM NAD83 *
HORIZONTAL_COORDINATE_SYSTEM UTM *
COORDINATE_ZONE 10 *
HORIZONTAL_UNITS METERS *
HORIZONTAL_RESOLUTION 1.0 *
SECONDARY_HORIZONTAL_DATUM NAD27 *
XY_ORIGIN 431011.241 4518560.697 *
SECONDARY_XY_ORIGIN 431107.855 4518364.210 *
NATION US *
STATE CA *
NW_QUAD_CORNER_XY 431473.890 4518260.697 *
NE_QUAD_CORNER_XY 436745.176 4518213.717 *
SE_QUAD_CORNER_XY 436685.853 4511275.799 *
SW_QUAD_CORNER_XY 431409.623 4511322.764 *
SECONDARY_NW_QUAD_XY 431472.055 4518049.140 *
SECONDARY_NE_QUAD_XY 436743.482 4518002.159 *
SECONDARY_SE_QUAD_XY 436684.160 4511064.355 *
SECONDARY_SW_QUAD_XY 431407.789 4511111.321 *
RMSE_XY 0.65 *
IMAGE_SOURCE "BLACK AND WHITE FILM" *
SOURCE_IMAGE_ID "NAPP 10478 22" *
SOURCE_IMAGE_DATE 1998 8 12 *
SOURCE_IMAGE_ID "NAPP 10478 21" *
SOURCE_IMAGE_DATE 1998 8 12 *
SOURCE_IMAGE_ID "NAPP 10478 23" *
SOURCE_IMAGE_DATE 1998 8 12 *
SOURCE_IMAGE_ID "NAPP 10478 166" *
SOURCE_IMAGE_DATE 1998 8 12 *
SOURCE_IMAGE_ID "NAPP 10478 167" *
SOURCE_IMAGE_DATE 1998 8 12 *
SOURCE_IMAGE_ID "NAPP 10478 168" *
SOURCE_IMAGE_DATE 1998 8 12 *
SOURCE_IMAGE_ID "NAPP 10477 127" *
SOURCE_IMAGE_DATE 1998 8 12 *
SOURCE_IMAGE_ID "NAPP 10477 126" *
SOURCE_IMAGE_DATE 1998 8 12 *
SOURCE_IMAGE_ID "NAPP 10477 125" *
SOURCE_IMAGE_DATE 1998 8 12 *
SOURCE_DEM_DATE 1977 1 1 *
AGENCY "WESTERN MAPPING CENTER (WMC)" *
PRODUCER "USDA FS GEOSPATIAL SERVICE AND TECHNOLOGY CENTER" *
PRODUCTION_SYSTEM "ORBIT OR_RECTIFY V.5.2" *
STANDARD_VERSION 1996 12 *
METADATA_DATE 2001 3 29 *
DATA_FILE_SIZE 45864434 *
BYTE_COUNT 6034 * * * * * * * * * * * * * * * * *
END_USGS_HEADER *
