BEGIN_USGS_DOQ_HEADER *
QUADRANGLE_NAME "JIM JAM RIDGE" *
QUADRANT SW *
WEST_LONGITUDE -123 22 30.000 *
EAST_LONGITUDE -123 18 45.000 *
NORTH_LATITUDE 40 56 15.000 *
SOUTH_LATITUDE 40 52 30.000 *
PRODUCTION_DATE 2001 7 19 *
RASTER_ORDER LEFT_RIGHT/TOP_BOTTOM *
BAND_ORGANIZATION "SINGLE FILE" *
BAND_CONTENT BLACK&WHITE *
BITS_PER_PIXEL 8 *
SAMPLES_AND_LINES 5988 7574 *
HORIZONTAL_DATUM NAD83 *
HORIZONTAL_COORDINATE_SYSTEM UTM *
COORDINATE_ZONE 10 *
HORIZONTAL_UNITS METERS *
HORIZONTAL_RESOLUTION 1.0 *
SECONDARY_HORIZONTAL_DATUM NAD27 *
XY_ORIGIN 468005.196 4532186.697 *
SECONDARY_XY_ORIGIN 468101.642 4531990.196 *
NATION US *
STATE CA *
NW_QUAD_CORNER_XY 468432.121 4531886.697 *
NE_QUAD_CORNER_XY 473693.442 4531866.014 *
SE_QUAD_CORNER_XY 473668.663 4524928.019 *
SW_QUAD_CORNER_XY 468402.386 4524948.695 *
SECONDARY_NW_QUAD_XY 468431.275 4531674.910 *
SECONDARY_NE_QUAD_XY 473692.738 4531654.227 *
SECONDARY_SE_QUAD_XY 473667.959 4524716.343 *
SECONDARY_SW_QUAD_XY 468401.540 4524737.020 *
RMSE_XY 4.23 *
IMAGE_SOURCE "BLACK AND WHITE FILM" *
SOURCE_IMAGE_ID "NAPP 10479 125" *
SOURCE_IMAGE_DATE 1998 8 13 *
SOURCE_IMAGE_ID "NAPP 10479 126" *
SOURCE_IMAGE_DATE 1998 8 13 *
SOURCE_IMAGE_ID "NAPP 10479 124" *
SOURCE_IMAGE_DATE 1998 8 13 *
SOURCE_IMAGE_ID "NAPP 10479 215" *
SOURCE_IMAGE_DATE 1998 8 13 *
SOURCE_IMAGE_ID "NAPP 10479 216" *
SOURCE_IMAGE_DATE 1998 8 13 *
SOURCE_IMAGE_ID "NAPP 10479 217" *
SOURCE_IMAGE_DATE 1998 8 13 *
SOURCE_IMAGE_ID "NAPP 10479 45" *
SOURCE_IMAGE_DATE 1998 8 13 *
SOURCE_IMAGE_ID "NAPP 10479 46" *
SOURCE_IMAGE_DATE 1998 8 13 *
SOURCE_IMAGE_ID "NAPP 10479 47" *
SOURCE_IMAGE_DATE 1998 8 13 *
SOURCE_DEM_DATE 2000 0 0 *
AGENCY "WESTERN MAPPING CENTER (WMC)" *
PRODUCER "USDA FS GEOSPATIAL SERVICE AND TECHNOLOGY CENTER" *
PRODUCTION_SYSTEM "ORBIT OR_RECTIFY V.5.2" *
STANDARD_VERSION 1996 12 *
METADATA_DATE 2001 7 24 *
DATA_FILE_SIZE 45359100 *
BYTE_COUNT 5988 * * * * * * * * * * * * * * * *
END_USGS_HEADER *
