BEGIN_USGS_DOQ_HEADER *
QUADRANGLE_NAME "DENNY" 3.45 or 7.5-min. name*
QUADRANT SW quadrant indicator if cell size = 3.75-minutes*
WEST_LONGITUDE -123 30 0.000 signed deg min sec SDDD MM SS.SSS*
EAST_LONGITUDE -123 26 15.000 signed deg min sec SDDD MM SS.SSS*
NORTH_LATITUDE 40 56 15.000 signed deg min sec SDDD MM SS.SSS*
SOUTH_LATITUDE 40 52 30.000 signed deg min sec SDDD MM SS.SSS*
PRODUCTION_DATE 1996 4 3 yyyy mm dd*
RASTER_ORDER LEFT_RIGHT/TOP_BOTTOM video display order*
BAND_ORGANIZATION "SINGLE FILE" single file or BSQ, or BIL or BIP*
BAND_CONTENT BLACK&WHITE black&white or red green blue*
BITS_PER_PIXEL 8 radiometric resolution*
SAMPLES_AND_LINES 6009 7591 number of columns and rows*
HORIZONTAL_DATUM NAD83 primary horizontal datum*
HORIZONTAL_COORDINATE_SYSTEM UTM *
COORDINATE_ZONE 10 coordinate system zone number*
HORIZONTAL_UNITS METERS coordinate system units*
HORIZONTAL_RESOLUTION 1.00 pixel horiz. ground sample distance*
SECONDARY_HORIZONTAL_DATUM NAD27 secondary horizontal datum*
XY_ORIGIN 457467.500 4532243.500 coord. of upper left pixel pri. datum*
SECONDARY_XY_ORIGIN 457563.991 4532047.052 coord upper left pixel sec datum*
NATION US nation code*
STATE CA state fip code*
NW_QUAD_CORNER_XY 457909.461 4531939.345 XY coords. of pri. NW quad corner*
NE_QUAD_CORNER_XY 463170.794 4531911.141 XY coords. of pri. NE quad corner*
SE_QUAD_CORNER_XY 463136.103 4524973.132 XY coords. of pri. SE quad corner*
SW_QUAD_CORNER_XY 457869.813 4525001.327 XY coords. of pri. SW quad corner*
SECONDARY_NW_QUAD_XY 457908.330 4531727.559 XY coords. - sec. NW quad cor.*
SECONDARY_NE_QUAD_XY 463169.804 4531699.353 XY coords. - sec. NE quad cor.*
SECONDARY_SE_QUAD_XY 463135.113 4524761.455 XY coords. - sec. SE quad cor.*
SECONDARY_SW_QUAD_XY 457868.683 4524789.652 XY coords. - sec. SW quad cor.*
RMSE_XY 5.10 doq horiz. accuracy*
IMAGE_SOURCE "BLACK AND WHITE FILM" b&w, cir, natural color, other*
SOURCE_IMAGE_ID "PAPP 0250 555" source image id*
SOURCE_IMAGE_DATE 1993 6 24 source image date as yyyy mm dd*
IMAGE_SOURCE "BLACK AND WHITE FILM" b&w, cir, natural color, other*
SOURCE_IMAGE_ID "PAPP 0250 454" source image id*
SOURCE_IMAGE_DATE 1993 6 24 source image date as yyyy mm dd*
IMAGE_SOURCE "BLACK AND WHITE FILM" b&w, cir, natural color, other*
SOURCE_IMAGE_ID "PAPP 0250 656" source image id*
SOURCE_IMAGE_DATE 1993 6 24 source image date as yyyy mm dd*
SOURCE_DEM_DATE 1996 4 3 source dem date yyyy mm dd*
AGENCY "WESTERN MAPPING CENTER (WMC)" oversight agency*
PRODUCER "Woolpert Consultants" producer/contractor*
PRODUCTION_SYSTEM "INTERGRAPH ISPM,ISIR" production system*
STANDARD_VERSION 1996 12 version of DOQ standard*
METADATA_DATE 1997 5 27 date created or changed, yyyy mm dd*
DATA_FILE_SIZE 45620328 data set size in bytes*
BYTE_COUNT 6009 header byte count* * * * * * * * * * * * * * * * * * * * * * * * * * *
END_USGS_HEADER *
