BEGIN_USGS_DOQ_HEADER *
QUADRANGLE_NAME "SALYER" *
QUADRANT NE *
WEST_LONGITUDE -123 33 45.000 *
EAST_LONGITUDE -123 30 0.000 *
NORTH_LATITUDE 41 0 0.000 *
SOUTH_LATITUDE 40 56 15.000 *
PRODUCTION_DATE 2001 5 2 *
RASTER_ORDER LEFT_RIGHT/TOP_BOTTOM *
BAND_ORGANIZATION "SINGLE FILE" *
BAND_CONTENT BLACK&WHITE *
BITS_PER_PIXEL 8 *
SAMPLES_AND_LINES 5999 7585 *
HORIZONTAL_DATUM NAD83 *
HORIZONTAL_COORDINATE_SYSTEM UTM *
COORDINATE_ZONE 10 *
HORIZONTAL_UNITS METERS *
HORIZONTAL_RESOLUTION 1.0 *
SECONDARY_HORIZONTAL_DATUM NAD27 *
XY_ORIGIN 452250.799 4539208.914 *
SECONDARY_XY_ORIGIN 452347.451 4539012.540 *
NATION US *
STATE CA *
NW_QUAD_CORNER_XY 452692.781 4538909.414 *
NE_QUAD_CORNER_XY 457949.159 4538877.438 *
SE_QUAD_CORNER_XY 457909.461 4531939.345 *
SW_QUAD_CORNER_XY 452648.121 4531971.311 *
SECONDARY_NW_QUAD_XY 452691.511 4538697.519 *
SECONDARY_NE_QUAD_XY 457948.030 4538665.543 *
SECONDARY_SE_QUAD_XY 457908.333 4531727.560 *
SECONDARY_SW_QUAD_XY 452646.852 4531759.526 *
RMSE_XY 0.65 *
IMAGE_SOURCE "BLACK AND WHITE FILM" *
SOURCE_IMAGE_ID "NAPP 10480 38" *
SOURCE_IMAGE_DATE 1998 8 13 *
SOURCE_IMAGE_ID "NAPP 10480 39" *
SOURCE_IMAGE_DATE 1998 8 13 *
SOURCE_IMAGE_ID "NAPP 10480 37" *
SOURCE_IMAGE_DATE 1998 8 13 *
SOURCE_IMAGE_ID "NAPP 10477 47" *
SOURCE_IMAGE_DATE 1998 8 12 *
SOURCE_IMAGE_ID "NAPP 10477 48" *
SOURCE_IMAGE_DATE 1998 8 12 *
SOURCE_IMAGE_ID "NAPP 10477 49" *
SOURCE_IMAGE_DATE 1998 8 12 *
SOURCE_IMAGE_ID "NAPP 10480 227" *
SOURCE_IMAGE_DATE 1998 8 13 *
SOURCE_DEM_DATE 1979 1 1 *
AGENCY "WESTERN MAPPING CENTER (WMC)" *
PRODUCER "USDA FS GEOSPATIAL SERVICE AND TECHNOLOGY CENTER" *
PRODUCTION_SYSTEM "ORBIT OR_RECTIFY V.5.2" *
STANDARD_VERSION 1996 12 *
METADATA_DATE 2001 3 29 *
DATA_FILE_SIZE 45508414 *
BYTE_COUNT 5999 * * * * * * * * * * * * * * * * * * * *
END_USGS_HEADER *
