BEGIN_USGS_DOQ_HEADER *
QUADRANGLE_NAME "WILLOW CREEK" 3.45 or 7.5-min. name*
QUADRANT SE quadrant indicator if cell size = 3.75-minutes*
WEST_LONGITUDE -123 41 15.000 signed deg min sec SDDD MM SS.SSS*
EAST_LONGITUDE -123 37 30.000 signed deg min sec SDDD MM SS.SSS*
NORTH_LATITUDE 40 56 15.000 signed deg min sec SDDD MM SS.SSS*
SOUTH_LATITUDE 40 52 30.000 signed deg min sec SDDD MM SS.SSS*
PRODUCTION_DATE 1996 4 9 yyyy mm dd*
RASTER_ORDER LEFT_RIGHT/TOP_BOTTOM video display order*
BAND_ORGANIZATION "SINGLE FILE" single file or BSQ, or BIL or BIP*
BAND_CONTENT BLACK&WHITE black&white or red green blue*
BITS_PER_PIXEL 8 radiometric resolution*
SAMPLES_AND_LINES 6024 7603 number of columns and rows*
HORIZONTAL_DATUM NAD83 primary horizontal datum*
HORIZONTAL_COORDINATE_SYSTEM UTM *
COORDINATE_ZONE 10 coordinate system zone number*
HORIZONTAL_UNITS METERS coordinate system units*
HORIZONTAL_RESOLUTION 1.00 pixel horiz. ground sample distance*
SECONDARY_HORIZONTAL_DATUM NAD27 secondary horizontal datum*
XY_ORIGIN 441668.500 4532351.500 coord. of upper left pixel pri. datum*
SECONDARY_XY_ORIGIN 441765.193 4532155.098 coord upper left pixel sec datum*
NATION US nation code*
STATE CA state fip code*
NW_QUAD_CORNER_XY 442125.415 4532046.525 XY coords. of pri. NW quad corner*
NE_QUAD_CORNER_XY 447386.772 4532007.037 XY coords. of pri. NE quad corner*
SE_QUAD_CORNER_XY 447337.212 4525068.998 XY coords. of pri. SE quad corner*
SW_QUAD_CORNER_XY 442070.898 4525108.473 XY coords. of pri. SW quad corner*
SECONDARY_NW_QUAD_XY 442123.860 4531834.741 XY coords. - sec. NW quad cor.*
SECONDARY_NE_QUAD_XY 447385.359 4531795.253 XY coords. - sec. NE quad cor.*
SECONDARY_SE_QUAD_XY 447335.799 4524857.324 XY coords. - sec. SE quad cor.*
SECONDARY_SW_QUAD_XY 442069.344 4524896.800 XY coords. - sec. SW quad cor.*
RMSE_XY 4.50 doq horiz. accuracy*
IMAGE_SOURCE "BLACK AND WHITE FILM" b&w, cir, natural color, other*
SOURCE_IMAGE_ID "NAPP 6250 106" source image id*
SOURCE_IMAGE_DATE 1993 6 24 source image date as yyyy mm dd*
IMAGE_SOURCE "BLACK AND WHITE FILM" b&w, cir, natural color, other*
SOURCE_IMAGE_ID "NAPP 6250 107" source image id*
SOURCE_IMAGE_DATE 1993 6 24 source image date as yyyy mm dd*
IMAGE_SOURCE "BLACK AND WHITE FILM" b&w, cir, natural color, other*
SOURCE_IMAGE_ID "NAPP 6250 105" source image id*
SOURCE_IMAGE_DATE 1993 6 24 source image date as yyyy mm dd*
SOURCE_DEM_DATE 1996 4 9 source dem date yyyy mm dd*
AGENCY "WESTERN MAPPING CENTER (WMC)" oversight agency*
PRODUCER "Woolpert Consultants" producer/contractor*
PRODUCTION_SYSTEM "INTERGRAPH ISPM,ISIR" production system*
STANDARD_VERSION 1996 12 version of DOQ standard*
METADATA_DATE 1997 7 17 date created or changed, yyyy mm dd*
DATA_FILE_SIZE 45806496 data set size in bytes*
BYTE_COUNT 6024 header byte count* * * * * * * * * * * * * * * * * * * * * * * * * * *
END_USGS_HEADER *
