BEGIN_USGS_DOQ_HEADER *
QUADRANGLE_NAME "WILLOW CREEK" *
QUADRANT SW *
WEST_LONGITUDE -123 45 0.000 *
EAST_LONGITUDE -123 41 15.000 *
NORTH_LATITUDE 40 56 15.000 *
SOUTH_LATITUDE 40 52 30.000 *
PRODUCTION_DATE 2001 5 2 *
RASTER_ORDER LEFT_RIGHT/TOP_BOTTOM *
BAND_ORGANIZATION "SINGLE FILE" *
BAND_CONTENT BLACK&WHITE *
BITS_PER_PIXEL 8 *
SAMPLES_AND_LINES 6019 7596 *
HORIZONTAL_DATUM NAD83 *
HORIZONTAL_COORDINATE_SYSTEM UTM *
COORDINATE_ZONE 10 *
HORIZONTAL_UNITS METERS *
HORIZONTAL_RESOLUTION 1.0 *
SECONDARY_HORIZONTAL_DATUM NAD27 *
XY_ORIGIN 436406.677 4532389.774 *
SECONDARY_XY_ORIGIN 436503.434 4532193.390 *
NATION US *
STATE CA *
NW_QUAD_CORNER_XY 436864.048 4532089.774 *
NE_QUAD_CORNER_XY 442125.415 4532046.525 *
SE_QUAD_CORNER_XY 442070.898 4525108.473 *
SW_QUAD_CORNER_XY 436804.574 4525151.708 *
SECONDARY_NW_QUAD_XY 436862.353 4531877.993 *
SECONDARY_NE_QUAD_XY 442123.863 4531834.743 *
SECONDARY_SE_QUAD_XY 442069.347 4524896.801 *
SECONDARY_SW_QUAD_XY 436802.880 4524940.038 *
RMSE_XY 0.65 *
IMAGE_SOURCE "BLACK AND WHITE FILM" *
SOURCE_IMAGE_ID "NAPP 10477 122" *
SOURCE_IMAGE_DATE 1998 8 12 *
SOURCE_IMAGE_ID "NAPP 10477 123" *
SOURCE_IMAGE_DATE 1998 8 12 *
SOURCE_IMAGE_ID "NAPP 10477 121" *
SOURCE_IMAGE_DATE 1998 8 12 *
SOURCE_IMAGE_ID "NAPP 10478 25" *
SOURCE_IMAGE_DATE 1998 8 12 *
SOURCE_IMAGE_ID "NAPP 10478 26" *
SOURCE_IMAGE_DATE 1998 8 12 *
SOURCE_IMAGE_ID "NAPP 10478 27" *
SOURCE_IMAGE_DATE 1998 8 12 *
SOURCE_IMAGE_ID "NAPP 10480 86" *
SOURCE_IMAGE_DATE 1998 8 13 *
SOURCE_IMAGE_ID "NAPP 10480 87" *
SOURCE_IMAGE_DATE 1998 8 13 *
SOURCE_IMAGE_ID "NAPP 10480 88" *
SOURCE_IMAGE_DATE 1998 8 13 *
SOURCE_DEM_DATE 1979 1 1 *
AGENCY "WESTERN MAPPING CENTER (WMC)" *
PRODUCER "USDA FS GEOSPATIAL SERVICE AND TECHNOLOGY CENTER" *
PRODUCTION_SYSTEM "ORBIT OR_RECTIFY V.5.2" *
STANDARD_VERSION 1996 12 *
METADATA_DATE 2001 3 29 *
DATA_FILE_SIZE 45726343 *
BYTE_COUNT 6019 * * * * * * * * * * * * * * * * *
END_USGS_HEADER *
