BEGIN_USGS_DOQ_HEADER *
QUADRANGLE_NAME "LORD-ELLIS SUMMIT" 3.45 or 7.5-min. name*
QUADRANT SE quadrant indicator if cell size = 3.75-minutes*
WEST_LONGITUDE -123 48 45.000 signed deg min sec SDDD MM SS.SSS*
EAST_LONGITUDE -123 45 0.000 signed deg min sec SDDD MM SS.SSS*
NORTH_LATITUDE 40 56 15.000 signed deg min sec SDDD MM SS.SSS*
SOUTH_LATITUDE 40 52 30.000 signed deg min sec SDDD MM SS.SSS*
PRODUCTION_DATE 1996 4 9 yyyy mm dd*
RASTER_ORDER LEFT_RIGHT/TOP_BOTTOM video display order*
BAND_ORGANIZATION "SINGLE FILE" single file or BSQ, or BIL or BIP*
BAND_CONTENT BLACK&WHITE black&white or red green blue*
BITS_PER_PIXEL 8 radiometric resolution*
SAMPLES_AND_LINES 6034 7610 number of columns and rows*
HORIZONTAL_DATUM NAD83 primary horizontal datum*
HORIZONTAL_COORDINATE_SYSTEM UTM *
COORDINATE_ZONE 10 coordinate system zone number*
HORIZONTAL_UNITS METERS coordinate system units*
HORIZONTAL_RESOLUTION 1.00 pixel horiz. ground sample distance*
SECONDARY_HORIZONTAL_DATUM NAD27 secondary horizontal datum*
XY_ORIGIN 431135.500 4532441.500 coord. of upper left pixel pri. datum*
SECONDARY_XY_ORIGIN 431232.242 4532245.138 coord upper left pixel sec datum*
NATION US nation code*
STATE CA state fip code*
NW_QUAD_CORNER_XY 431602.670 4532136.784 XY coords. of pri. NW quad corner*
NE_QUAD_CORNER_XY 436864.048 4532089.774 XY coords. of pri. NE quad corner*
SE_QUAD_CORNER_XY 436804.574 4525151.708 XY coords. of pri. SE quad corner*
SW_QUAD_CORNER_XY 431538.239 4525198.703 XY coords. of pri. SW quad corner*
SECONDARY_NW_QUAD_XY 431600.832 4531925.003 XY coords. - sec. NW quad cor.*
SECONDARY_NE_QUAD_XY 436862.351 4531877.991 XY coords. - sec. NE quad cor.*
SECONDARY_SE_QUAD_XY 436802.878 4524940.037 XY coords. - sec. SE quad cor.*
SECONDARY_SW_QUAD_XY 431536.402 4524987.033 XY coords. - sec. SW quad cor.*
RMSE_XY 4.80 doq horiz. accuracy*
IMAGE_SOURCE "BLACK AND WHITE FILM" b&w, cir, natural color, other*
SOURCE_IMAGE_ID "NAPP 6250 091" source image id*
SOURCE_IMAGE_DATE 1993 6 24 source image date as yyyy mm dd*
IMAGE_SOURCE "BLACK AND WHITE FILM" b&w, cir, natural color, other*
SOURCE_IMAGE_ID "NAPP 6250 092" source image id*
SOURCE_IMAGE_DATE 1993 6 24 source image date as yyyy mm dd*
IMAGE_SOURCE "BLACK AND WHITE FILM" b&w, cir, natural color, other*
SOURCE_IMAGE_ID "NAPP 6250 090" source image id*
SOURCE_IMAGE_DATE 1993 6 24 source image date as yyyy mm dd*
SOURCE_DEM_DATE 1996 4 9 source dem date yyyy mm dd*
AGENCY "WESTERN MAPPING CENTER (WMC)" oversight agency*
PRODUCER "Woolpert Consultants" producer/contractor*
PRODUCTION_SYSTEM "INTERGRAPH ISPM,ISIR" production system*
STANDARD_VERSION 1996 12 version of DOQ standard*
METADATA_DATE 1997 7 17 date created or changed, yyyy mm dd*
DATA_FILE_SIZE 45924774 data set size in bytes*
BYTE_COUNT 6034 header byte count* * * * * * * * * * * * * * * * * * * * * * * * * * *
END_USGS_HEADER *
