BEGIN_USGS_DOQ_HEADER *
QUADRANGLE_NAME "MCWHINNEY CREEK" 3.45 or 7.5-min. name*
QUADRANT NW quadrant indicator if cell size = 3.75-minutes*
WEST_LONGITUDE -124 7 30.000 signed deg min sec SDDD MM SS.SSS*
EAST_LONGITUDE -124 3 45.000 signed deg min sec SDDD MM SS.SSS*
NORTH_LATITUDE 40 45 0.000 signed deg min sec SDDD MM SS.SSS*
SOUTH_LATITUDE 40 41 15.000 signed deg min sec SDDD MM SS.SSS*
PRODUCTION_DATE 1997 10 15 yyyy mm dd*
RASTER_ORDER LEFT_RIGHT/TOP_BOTTOM video display order*
BAND_ORGANIZATION BIP single file or BSQ, or BIL or BIP*
BAND_CONTENT RED black&white or red green blue*
BAND_CONTENT GREEN black&white or red green blue*
BAND_CONTENT BLUE black&white or red green blue*
BITS_PER_PIXEL 8 radiometric resolution*
SAMPLES_AND_LINES 6075 7629 number of columns and rows*
HORIZONTAL_DATUM NAD83 primary horizontal datum*
HORIZONTAL_COORDINATE_SYSTEM UTM *
COORDINATE_ZONE 10 coordinate system zone number*
HORIZONTAL_UNITS METERS coordinate system units*
HORIZONTAL_RESOLUTION 1.00 pixel horiz. ground sample distance*
SECONDARY_HORIZONTAL_DATUM NAD27 secondary horizontal datum*
XY_ORIGIN 404535.500 4511918.500 coord. of upper left pixel pri. datum*
SECONDARY_XY_ORIGIN 404631.954 4511722.397 coord upper left pixel sec datum*
NATION US nation code*
STATE CA state fip code*
NW_QUAD_CORNER_XY 405028.271 4511613.958 XY coords. of pri. NW quad corner*
NE_QUAD_CORNER_XY 410304.572 4511548.203 XY coords. of pri. NE quad corner*
SE_QUAD_CORNER_XY 410220.632 4504610.269 XY coords. of pri. SE quad corner*
SW_QUAD_CORNER_XY 404939.393 4504676.003 XY coords. of pri. SW quad corner*
SECONDARY_NW_QUAD_XY 405025.730 4511402.520 XY coords. - sec. NW quad cor.*
SECONDARY_NE_QUAD_XY 410302.172 4511336.763 XY coords. - sec. NE quad cor.*
SECONDARY_SE_QUAD_XY 410218.234 4504398.942 XY coords. - sec. SE quad cor.*
SECONDARY_SW_QUAD_XY 404936.853 4504464.678 XY coords. - sec. SW quad cor.*
RMSE_XY 7.70 doq horiz. accuracy*
IMAGE_SOURCE "COLOR INFRA-RED FILM" b&w, cir, natural color, other*
SOURCE_IMAGE_ID "NAPP 1304 177" source image id*
SOURCE_IMAGE_DATE 1990 7 26 source image date as yyyy mm dd*
IMAGE_SOURCE "COLOR INFRA-RED FILM" b&w, cir, natural color, other*
SOURCE_IMAGE_ID "NAPP 159 09" source image id*
SOURCE_IMAGE_DATE 1990 7 26 source image date as yyyy mm dd*
SOURCE_DEM_DATE 1997 10 15 source dem date yyyy mm dd*
AGENCY "WESTERN MAPPING CENTER (WMC)" oversight agency*
PRODUCER "WOOLPERT LLP" *
PRODUCTION_SYSTEM "INTERGRAPH ISPM,ISIR" production system*
STANDARD_VERSION 1996 12 version of DOQ standard*
METADATA_DATE 1998 1 29 date created or changed, yyyy mm dd*
DATA_FILE_SIZE 139056750 data set size in bytes*
BYTE_COUNT 18225 header byte count* * * * * * * * * * * * * * * * * * * * * * * * * * * * * * * * * * * * * * * * * * * * * * * * * * * * * * * * * * * * * * * * * * * * * * * * * * * * * * * * * * * * * * * * * * * * * * * * * * * * * * * * * * * * * * * * * * * * * * * * * * * * * * * * * * * * * * * * * * * * * * * * * * * * * * * * * * * * * * * * * * * * * * * * * * * * * * * * * * * *
END_USGS_HEADER *
