BEGIN_USGS_DOQ_HEADER *
QUADRANGLE_NAME "MCWHINNEY CREEK" 3.45 or 7.5-min. name*
QUADRANT SW quadrant indicator if cell size = 3.75-minutes*
WEST_LONGITUDE -124 7 30.000 signed deg min sec SDDD MM SS.SSS*
EAST_LONGITUDE -124 3 45.000 signed deg min sec SDDD MM SS.SSS*
NORTH_LATITUDE 40 41 15.000 signed deg min sec SDDD MM SS.SSS*
SOUTH_LATITUDE 40 37 30.000 signed deg min sec SDDD MM SS.SSS*
PRODUCTION_DATE 1997 10 16 yyyy mm dd*
RASTER_ORDER LEFT_RIGHT/TOP_BOTTOM video display order*
BAND_ORGANIZATION BIP single file or BSQ, or BIL or BIP*
BAND_CONTENT RED black&white or red green blue*
BAND_CONTENT GREEN black&white or red green blue*
BAND_CONTENT BLUE black&white or red green blue*
BITS_PER_PIXEL 8 radiometric resolution*
SAMPLES_AND_LINES 6080 7630 number of columns and rows*
HORIZONTAL_DATUM NAD83 primary horizontal datum*
HORIZONTAL_COORDINATE_SYSTEM UTM *
COORDINATE_ZONE 10 coordinate system zone number*
HORIZONTAL_UNITS METERS coordinate system units*
HORIZONTAL_RESOLUTION 1.00 pixel horiz. ground sample distance*
SECONDARY_HORIZONTAL_DATUM NAD27 secondary horizontal datum*
XY_ORIGIN 404446.500 4504981.500 coord. of upper left pixel pri. datum*
SECONDARY_XY_ORIGIN 404542.826 4504785.351 coord upper left pixel sec datum*
NATION US nation code*
STATE CA state fip code*
NW_QUAD_CORNER_XY 404939.393 4504676.003 XY coords. of pri. NW quad corner*
NE_QUAD_CORNER_XY 410220.632 4504610.269 XY coords. of pri. NE quad corner*
SE_QUAD_CORNER_XY 410136.800 4497672.408 XY coords. of pri. SE quad corner*
SW_QUAD_CORNER_XY 404850.628 4497738.120 XY coords. of pri. SW quad corner*
SECONDARY_NW_QUAD_XY 404936.853 4504464.678 XY coords. - sec. NW quad cor.*
SECONDARY_NE_QUAD_XY 410218.234 4504398.942 XY coords. - sec. NE quad cor.*
SECONDARY_SE_QUAD_XY 410134.404 4497461.196 XY coords. - sec. SE quad cor.*
SECONDARY_SW_QUAD_XY 404848.090 4497526.909 XY coords. - sec. SW quad cor.*
RMSE_XY 8.00 doq horiz. accuracy*
IMAGE_SOURCE "COLOR INFRA-RED FILM" b&w, cir, natural color, other*
SOURCE_IMAGE_ID "NAPP 1304 179" source image id*
SOURCE_IMAGE_DATE 1990 7 26 source image date as yyyy mm dd*
IMAGE_SOURCE "COLOR INFRA-RED FILM" b&w, cir, natural color, other*
SOURCE_IMAGE_ID "NAPP 1304 1282" source image id*
SOURCE_IMAGE_DATE 1990 7 26 source image date as yyyy mm dd*
IMAGE_SOURCE "COLOR INFRA-RED FILM" b&w, cir, natural color, other*
SOURCE_IMAGE_ID "NAPP 1304 209" source image id*
SOURCE_IMAGE_DATE 1990 7 26 source image date as yyyy mm dd*
SOURCE_DEM_DATE 1997 10 16 source dem date yyyy mm dd*
AGENCY "WESTERN MAPPING CENTER (WMC)" oversight agency*
PRODUCER "WOOLPERT LLP" *
PRODUCTION_SYSTEM "INTERGRAPH ISPM,ISIR" production system*
STANDARD_VERSION 1996 12 version of DOQ standard*
METADATA_DATE 1998 1 29 date created or changed, yyyy mm dd*
DATA_FILE_SIZE 139189440 data set size in bytes*
BYTE_COUNT 18240 header byte count* * * * * * * * * * * * * * * * * * * * * * * * * * * * * * * * * * * * * * * * * * * * * * * * * * * * * * * * * * * * * * * * * * * * * * * * * * * * * * * * * * * * * * * * * * * * * * * * * * * * * * * * * * * * * * * * * * * * * * * * * * * * * * * * * * * * * * * * * * * * * * * * * * * * * * * * * * * * * * * * * * * * * * * * * * * * * * * * *
END_USGS_HEADER *
