BEGIN_USGS_DOQ_HEADER *
QUADRANGLE_NAME "EUREKA" 3.45 or 7.5-min. name*
QUADRANT NE quadrant indicator if cell size = 3.75-minutes*
WEST_LONGITUDE -124 11 15.000 signed deg min sec SDDD MM SS.SSS*
EAST_LONGITUDE -124 7 30.000 signed deg min sec SDDD MM SS.SSS*
NORTH_LATITUDE 40 52 30.000 signed deg min sec SDDD MM SS.SSS*
SOUTH_LATITUDE 40 48 45.000 signed deg min sec SDDD MM SS.SSS*
PRODUCTION_DATE 1997 10 12 yyyy mm dd*
RASTER_ORDER LEFT_RIGHT/TOP_BOTTOM video display order*
BAND_ORGANIZATION BIP single file or BSQ, or BIL or BIP*
BAND_CONTENT RED black&white or red green blue*
BAND_CONTENT GREEN black&white or red green blue*
BAND_CONTENT BLUE black&white or red green blue*
BITS_PER_PIXEL 8 radiometric resolution*
SAMPLES_AND_LINES 6071 7634 number of columns and rows*
HORIZONTAL_DATUM NAD83 primary horizontal datum*
HORIZONTAL_COORDINATE_SYSTEM UTM *
COORDINATE_ZONE 10 coordinate system zone number*
HORIZONTAL_UNITS METERS coordinate system units*
HORIZONTAL_RESOLUTION 1.00 pixel horiz. ground sample distance*
SECONDARY_HORIZONTAL_DATUM NAD27 secondary horizontal datum*
XY_ORIGIN 399441.500 4525864.500 coord. of upper left pixel pri. datum*
SECONDARY_XY_ORIGIN 399538.140 4525668.405 coord upper left pixel sec datum*
NATION US nation code*
STATE CA state fip code*
NW_QUAD_CORNER_XY 399939.948 4525559.646 XY coords. of pri. NW quad corner*
NE_QUAD_CORNER_XY 405206.368 4525490.086 XY coords. of pri. NE quad corner*
SE_QUAD_CORNER_XY 405117.263 4518551.986 XY coords. of pri. SE quad corner*
SW_QUAD_CORNER_XY 399845.891 4518621.523 XY coords. of pri. SW quad corner*
SECONDARY_NW_QUAD_XY 399937.263 4525347.985 XY coords. - sec. NW quad cor.*
SECONDARY_NE_QUAD_XY 405203.824 4525278.424 XY coords. - sec. NE quad cor.*
SECONDARY_SE_QUAD_XY 405114.721 4518340.435 XY coords. - sec. SE quad cor.*
SECONDARY_SW_QUAD_XY 399843.208 4518409.974 XY coords. - sec. SW quad cor.*
RMSE_XY 7.30 doq horiz. accuracy*
IMAGE_SOURCE "COLOR INFRA-RED FILM" b&w, cir, natural color, other*
SOURCE_IMAGE_ID "NAPP 1304 186" source image id*
SOURCE_IMAGE_DATE 1990 7 26 source image date as yyyy mm dd*
SOURCE_DEM_DATE 1997 10 12 source dem date yyyy mm dd*
AGENCY "WESTERN MAPPING CENTER (WMC)" oversight agency*
PRODUCER "WOOLPERT LLP" *
PRODUCTION_SYSTEM "INTERGRAPH ISPM,ISIR" production system*
STANDARD_VERSION 1996 12 version of DOQ standard*
METADATA_DATE 1998 1 29 date created or changed, yyyy mm dd*
DATA_FILE_SIZE 139056255 data set size in bytes*
BYTE_COUNT 18213 header byte count* * * * * * * * * * * * * * * * * * * * * * * * * * * * * * * * * * * * * * * * * * * * * * * * * * * * * * * * * * * * * * * * * * * * * * * * * * * * * * * * * * * * * * * * * * * * * * * * * * * * * * * * * * * * * * * * * * * * * * * * * * * * * * * * * * * * * * * * * * * * * * * * * * * * * * * * * * * * * * * * * * * * * * * * * * * * * * * * * * * * * * *
END_USGS_HEADER *
