BEGIN_USGS_DOQ_HEADER *
QUADRANGLE_NAME "EUREKA" 3.45 or 7.5-min. name*
QUADRANT SW quadrant indicator if cell size = 3.75-minutes*
WEST_LONGITUDE -124 15 0.000 signed deg min sec SDDD MM SS.SSS*
EAST_LONGITUDE -124 11 15.000 signed deg min sec SDDD MM SS.SSS*
NORTH_LATITUDE 40 48 45.000 signed deg min sec SDDD MM SS.SSS*
SOUTH_LATITUDE 40 45 0.000 signed deg min sec SDDD MM SS.SSS*
PRODUCTION_DATE 1997 10 12 yyyy mm dd*
RASTER_ORDER LEFT_RIGHT/TOP_BOTTOM video display order*
BAND_ORGANIZATION BIP single file or BSQ, or BIL or BIP*
BAND_CONTENT RED black&white or red green blue*
BAND_CONTENT GREEN black&white or red green blue*
BAND_CONTENT BLUE black&white or red green blue*
BITS_PER_PIXEL 8 radiometric resolution*
SAMPLES_AND_LINES 6080 7637 number of columns and rows*
HORIZONTAL_DATUM NAD83 primary horizontal datum*
HORIZONTAL_COORDINATE_SYSTEM UTM *
COORDINATE_ZONE 10 coordinate system zone number*
HORIZONTAL_UNITS METERS coordinate system units*
HORIZONTAL_RESOLUTION 1.00 pixel horiz. ground sample distance*
SECONDARY_HORIZONTAL_DATUM NAD27 secondary horizontal datum*
XY_ORIGIN 394071.500 4518999.500 coord. of upper left pixel pri. datum*
SECONDARY_XY_ORIGIN 394168.075 4518803.529 coord upper left pixel sec datum*
NATION US nation code*
STATE CA state fip code*
NW_QUAD_CORNER_XY 394574.502 4518694.820 XY coords. of pri. NW quad corner*
NE_QUAD_CORNER_XY 399845.891 4518621.523 XY coords. of pri. NE quad corner*
SE_QUAD_CORNER_XY 399751.954 4511683.472 XY coords. of pri. SE quad corner*
SW_QUAD_CORNER_XY 394475.618 4511756.745 XY coords. of pri. SW quad corner*
SECONDARY_NW_QUAD_XY 394571.677 4518483.273 XY coords. - sec. NW quad cor.*
SECONDARY_NE_QUAD_XY 399843.208 4518409.974 XY coords. - sec. NE quad cor.*
SECONDARY_SE_QUAD_XY 399749.272 4511472.036 XY coords. - sec. SE quad cor.*
SECONDARY_SW_QUAD_XY 394472.795 4511545.311 XY coords. - sec. SW quad cor.*
RMSE_XY 5.30 doq horiz. accuracy*
IMAGE_SOURCE "COLOR INFRA-RED FILM" b&w, cir, natural color, other*
SOURCE_IMAGE_ID "NAPP 1304 194" source image id*
SOURCE_IMAGE_DATE 1990 7 26 source image date as yyyy mm dd*
SOURCE_DEM_DATE 1997 10 12 source dem date yyyy mm dd*
AGENCY "WESTERN MAPPING CENTER (WMC)" oversight agency*
PRODUCER "WOOLPERT LLP" *
PRODUCTION_SYSTEM "INTERGRAPH ISPM,ISIR" production system*
STANDARD_VERSION 1996 12 version of DOQ standard*
METADATA_DATE 1998 1 29 date created or changed, yyyy mm dd*
DATA_FILE_SIZE 139317120 data set size in bytes*
BYTE_COUNT 18240 header byte count* * * * * * * * * * * * * * * * * * * * * * * * * * * * * * * * * * * * * * * * * * * * * * * * * * * * * * * * * * * * * * * * * * * * * * * * * * * * * * * * * * * * * * * * * * * * * * * * * * * * * * * * * * * * * * * * * * * * * * * * * * * * * * * * * * * * * * * * * * * * * * * * * * * * * * * * * * * * * * * * * * * * * * * * * * * * * * * * * * * * * * *
END_USGS_HEADER *
