BEGIN_USGS_DOQ_HEADER *
QUADRANGLE_NAME "ARCATA NORTH" 3.45 or 7.5-min. name*
QUADRANT SW quadrant indicator if cell size = 3.75-minutes*
WEST_LONGITUDE -124 7 30.000 signed deg min sec SDDD MM SS.SSS*
EAST_LONGITUDE -124 3 45.000 signed deg min sec SDDD MM SS.SSS*
NORTH_LATITUDE 40 56 15.000 signed deg min sec SDDD MM SS.SSS*
SOUTH_LATITUDE 40 52 30.000 signed deg min sec SDDD MM SS.SSS*
PRODUCTION_DATE 1997 10 12 yyyy mm dd*
RASTER_ORDER LEFT_RIGHT/TOP_BOTTOM video display order*
BAND_ORGANIZATION BIP single file or BSQ, or BIL or BIP*
BAND_CONTENT RED black&white or red green blue*
BAND_CONTENT GREEN black&white or red green blue*
BAND_CONTENT BLUE black&white or red green blue*
BITS_PER_PIXEL 8 radiometric resolution*
SAMPLES_AND_LINES 6061 7631 number of columns and rows*
HORIZONTAL_DATUM NAD83 primary horizontal datum*
HORIZONTAL_COORDINATE_SYSTEM UTM *
COORDINATE_ZONE 10 coordinate system zone number*
HORIZONTAL_UNITS METERS coordinate system units*
HORIZONTAL_RESOLUTION 1.00 pixel horiz. ground sample distance*
SECONDARY_HORIZONTAL_DATUM NAD27 secondary horizontal datum*
XY_ORIGIN 404802.500 4532733.500 coord. of upper left pixel pri. datum*
SECONDARY_XY_ORIGIN 404899.215 4532537.310 coord upper left pixel sec datum*
NATION US nation code*
STATE CA state fip code*
NW_QUAD_CORNER_XY 405295.587 4532428.259 XY coords. of pri. NW quad corner*
NE_QUAD_CORNER_XY 410557.032 4532362.441 XY coords. of pri. NE quad corner*
SE_QUAD_CORNER_XY 410472.772 4525424.288 XY coords. of pri. SE quad corner*
SW_QUAD_CORNER_XY 405206.368 4525490.086 XY coords. of pri. SW quad corner*
SECONDARY_NW_QUAD_XY 405293.042 4532216.486 XY coords. - sec. NW quad cor.*
SECONDARY_NE_QUAD_XY 410554.628 4532150.665 XY coords. - sec. NE quad cor.*
SECONDARY_SE_QUAD_XY 410470.369 4525212.624 XY coords. - sec. SE quad cor.*
SECONDARY_SW_QUAD_XY 405203.824 4525278.424 XY coords. - sec. SW quad cor.*
RMSE_XY 6.90 doq horiz. accuracy*
IMAGE_SOURCE "COLOR INFRA-RED FILM" b&w, cir, natural color, other*
SOURCE_IMAGE_ID "NAPP 1288 154" source image id*
SOURCE_IMAGE_DATE 1989 4 28 source image date as yyyy mm dd*
IMAGE_SOURCE "COLOR INFRA-RED FILM" b&w, cir, natural color, other*
SOURCE_IMAGE_ID "NAPP 1288 153" source image id*
SOURCE_IMAGE_DATE 1989 4 28 source image date as yyyy mm dd*
SOURCE_DEM_DATE 1997 10 12 source dem date yyyy mm dd*
AGENCY "WESTERN MAPPING CENTER (WMC)" oversight agency*
PRODUCER "WOOLPERT LLP" *
PRODUCTION_SYSTEM "INTERGRAPH ISPM,ISIR" production system*
STANDARD_VERSION 1996 12 version of DOQ standard*
METADATA_DATE 1998 1 28 date created or changed, yyyy mm dd*
DATA_FILE_SIZE 138772656 data set size in bytes*
BYTE_COUNT 18183 header byte count* * * * * * * * * * * * * * * * * * * * * * * * * * * * * * * * * * * * * * * * * * * * * * * * * * * * * * * * * * * * * * * * * * * * * * * * * * * * * * * * * * * * * * * * * * * * * * * * * * * * * * * * * * * * * * * * * * * * * * * * * * * * * * * * * * * * * * * * * * * * * * * * * * * * * * * * * * * * * * * * * * * * * * * * * * * * * * * * * * * *
END_USGS_HEADER *
