BEGIN_USGS_DOQ_HEADER *
QUADRANGLE_NAME "TYEE CITY" 3.45 or 7.5-min. name*
QUADRANT NE quadrant indicator if cell size = 3.75-minutes*
WEST_LONGITUDE -124 11 15.000 signed deg min sec SDDD MM SS.SSS*
EAST_LONGITUDE -124 7 30.000 signed deg min sec SDDD MM SS.SSS*
NORTH_LATITUDE 41 0 0.000 signed deg min sec SDDD MM SS.SSS*
SOUTH_LATITUDE 40 56 15.000 signed deg min sec SDDD MM SS.SSS*
PRODUCTION_DATE 2002 8 8 yyyy mm dd*
RASTER_ORDER LEFT_RIGHT/TOP_BOTTOM video display order*
BAND_ORGANIZATION BIP single file or BSQ, or BIL or BIP*
BAND_CONTENT RED black&white or red green blue*
BAND_CONTENT GREEN black&white or red green blue*
BAND_CONTENT BLUE black&white or red green blue*
BITS_PER_PIXEL 8 radiometric resolution*
SAMPLES_AND_LINES 6053 7626 number of columns and rows*
HORIZONTAL_DATUM NAD83 primary horizontal datum*
HORIZONTAL_COORDINATE_SYSTEM UTM *
COORDINATE_ZONE 10 coordinate system zone number*
HORIZONTAL_UNITS METERS coordinate system units*
HORIZONTAL_RESOLUTION 1.00 pixel horiz. ground sample distance*
SECONDARY_HORIZONTAL_DATUM NAD27 secondary horizontal datum*
XY_ORIGIN 399634.000 4539737.000 coord. of upper left pixel pri. datum*
SECONDARY_XY_ORIGIN 399730.798 4539540.812 coord upper left pixel sec datum*
NATION US nation code*
STATE CA state fip code*
NW_QUAD_CORNER_XY 400128.422 4539436.108 XY coords. of pri. NW quad corner*
NE_QUAD_CORNER_XY 405384.918 4539366.505 XY coords. of pri. NE quad corner*
SE_QUAD_CORNER_XY 405295.587 4532428.260 XY coords. of pri. SE quad corner*
SW_QUAD_CORNER_XY 400034.125 4532497.841 XY coords. of pri. SW quad corner*
SECONDARY_NW_QUAD_XY 400125.734 4539224.226 XY coords. - sec. NW quad cor.*
SECONDARY_NE_QUAD_XY 405382.372 4539154.622 XY coords. - sec. NE quad cor.*
SECONDARY_SE_QUAD_XY 405293.042 4532216.486 XY coords. - sec. SE quad cor.*
SECONDARY_SW_QUAD_XY 400031.439 4532286.069 XY coords. - sec. SW quad cor.*
RMSE_XY 1.10 doq horiz. accuracy*
IMAGE_SOURCE "COLOR INFRA-RED FILM" b&w, cir, natural color, other*
SOURCE_IMAGE_ID "NAPP 01288 104" source image id*
SOURCE_IMAGE_DATE 1989 4 28 source image date as yyyy mm dd*
SOURCE_DEM_DATE 2002 8 8 source dem date yyyy mm dd*
AGENCY "WESTERN MAPPING CENTER (WMC)" oversight agency*
PRODUCER "WESTERN MAPPING CENTER (WMC)" *
PRODUCTION_SYSTEM "DV2.6.4 1/00 OV2.6 6/00" production system*
STANDARD_VERSION 1996 12 version of DOQ standard*
METADATA_DATE 2002 8 8 date created or changed, yyyy mm dd*
DATA_FILE_SIZE 138498693 data set size in bytes*
BYTE_COUNT 18159 header byte count* * * * * * * * * * * * * * * * * * * * * * * * * * * * * * * * * * * * * * * * * * * * * * * * * * * * * * * * * * * * * * * * * * * * * * * * * * * * * * * * * * * * * * * * * * * * * * * * * * * * * * * * * * * * * * * * * * * * * * * * * * * * * * * * * * * * * * * * * * * * * * * * * * * * * * * * * * * * * * * * * * * * * * * * * * * * * * * * * * * * * *
END_USGS_HEADER *
