BEGIN_USGS_DOQ_HEADER *
QUADRANGLE_NAME "SHELTER COVE" 3.45 or 7.5-min. name*
QUADRANT SW quadrant indicator if cell size = 3.75-minutes*
WEST_LONGITUDE -124 7 30.000 signed deg min sec SDDD MM SS.SSS*
EAST_LONGITUDE -124 3 45.000 signed deg min sec SDDD MM SS.SSS*
NORTH_LATITUDE 40 3 45.000 signed deg min sec SDDD MM SS.SSS*
SOUTH_LATITUDE 40 0 0.000 signed deg min sec SDDD MM SS.SSS*
PRODUCTION_DATE 1996 5 6 yyyy mm dd*
RASTER_ORDER LEFT_RIGHT/TOP_BOTTOM video display order*
BAND_ORGANIZATION "SINGLE FILE" single file or BSQ, or BIL or BIP*
BAND_CONTENT BLACK&WHITE black&white or red green blue*
BITS_PER_PIXEL 8 radiometric resolution*
SAMPLES_AND_LINES 6125 7626 number of columns and rows*
HORIZONTAL_DATUM NAD83 primary horizontal datum*
HORIZONTAL_COORDINATE_SYSTEM UTM *
COORDINATE_ZONE 10 coordinate system zone number*
HORIZONTAL_UNITS METERS coordinate system units*
HORIZONTAL_RESOLUTION 1.00 pixel horiz. ground sample distance*
SECONDARY_HORIZONTAL_DATUM NAD27 secondary horizontal datum*
XY_ORIGIN 403567.500 4435604.500 coord. of upper left pixel pri. datum*
SECONDARY_XY_ORIGIN 403662.870 4435408.120 coord upper left pixel sec datum*
NATION US nation code*
STATE CA state fip code*
NW_QUAD_CORNER_XY 404056.880 4435300.430 XY coords. of pri. NW quad corner*
NE_QUAD_CORNER_XY 409387.160 4435234.930 XY coords. of pri. NE quad corner*
SE_QUAD_CORNER_XY 409304.410 4428297.790 XY coords. of pri. SE quad corner*
SW_QUAD_CORNER_XY 403969.250 4428363.270 XY coords. of pri. SW quad corner*
SECONDARY_NW_QUAD_XY 404054.350 4435090.280 XY coords. - sec. NW quad cor.*
SECONDARY_NE_QUAD_XY 409384.770 4435024.780 XY coords. - sec. NE quad cor.*
SECONDARY_SE_QUAD_XY 409302.020 4428087.770 XY coords. - sec. SE quad cor.*
SECONDARY_SW_QUAD_XY 403966.730 4428153.250 XY coords. - sec. SW quad cor.*
RMSE_XY 2.40 doq horiz. accuracy*
IMAGE_SOURCE "BLACK AND WHITE FILM" b&w, cir, natural color, other*
SOURCE_IMAGE_ID "NAPP 6247 084" source image id*
SOURCE_IMAGE_DATE 1993 6 12 source image date as yyyy mm dd*
IMAGE_SOURCE "BLACK AND WHITE FILM" b&w, cir, natural color, other*
SOURCE_IMAGE_ID "NAPP 6247 085" source image id*
SOURCE_IMAGE_DATE 1993 6 12 source image date as yyyy mm dd*
SOURCE_DEM_DATE 1996 5 6 source dem date yyyy mm dd*
AGENCY "WESTERN MAPPING CENTER (WMC)" oversight agency*
PRODUCER "Woolpert Consultants" producer/contractor*
PRODUCTION_SYSTEM "INTERGRAPH ISPM,ISIR" production system*
STANDARD_VERSION 1996 12 version of DOQ standard*
METADATA_DATE 1997 7 19 date created or changed, yyyy mm dd*
DATA_FILE_SIZE 46715375 data set size in bytes*
BYTE_COUNT 6125 header byte count* * * * * * * * * * * * * * * * * * * * * * * * * * * * * * *
END_USGS_HEADER *
